BEGIN:VCALENDAR
VERSION:2.0
PRODID:-//HIPPOline - ECPv6.15.18//NONSGML v1.0//EN
CALSCALE:GREGORIAN
METHOD:PUBLISH
X-ORIGINAL-URL:https://blog.hippoline.lu
X-WR-CALDESC:Veranstaltungen für HIPPOline
REFRESH-INTERVAL;VALUE=DURATION:PT1H
X-Robots-Tag:noindex
X-PUBLISHED-TTL:PT1H
BEGIN:VTIMEZONE
TZID:Europe/Luxembourg
BEGIN:DAYLIGHT
TZOFFSETFROM:+0100
TZOFFSETTO:+0200
TZNAME:CEST
DTSTART:20140330T010000
END:DAYLIGHT
BEGIN:STANDARD
TZOFFSETFROM:+0200
TZOFFSETTO:+0100
TZNAME:CET
DTSTART:20141026T010000
END:STANDARD
BEGIN:DAYLIGHT
TZOFFSETFROM:+0100
TZOFFSETTO:+0200
TZNAME:CEST
DTSTART:20150329T010000
END:DAYLIGHT
BEGIN:STANDARD
TZOFFSETFROM:+0200
TZOFFSETTO:+0100
TZNAME:CET
DTSTART:20151025T010000
END:STANDARD
BEGIN:DAYLIGHT
TZOFFSETFROM:+0100
TZOFFSETTO:+0200
TZNAME:CEST
DTSTART:20160327T010000
END:DAYLIGHT
BEGIN:STANDARD
TZOFFSETFROM:+0200
TZOFFSETTO:+0100
TZNAME:CET
DTSTART:20161030T010000
END:STANDARD
END:VTIMEZONE
BEGIN:VEVENT
DTSTART;VALUE=DATE:20150728
DTEND;VALUE=DATE:20150803
DTSTAMP:20260425T195036
CREATED:20141231T130415Z
LAST-MODIFIED:20141231T130415Z
UID:7304190-1438041600-1438559999@blog.hippoline.lu
SUMMARY:Choczewo (POL) CSI3*
DESCRIPTION:Choczewo (POL) CSI3*  CSIYH1*
URL:https://blog.hippoline.lu/termin/choczewo-pol-csi3/
CATEGORIES:FEI
END:VEVENT
BEGIN:VEVENT
DTSTART;VALUE=DATE:20150729
DTEND;VALUE=DATE:20150803
DTSTAMP:20260425T195036
CREATED:20141231T130415Z
LAST-MODIFIED:20141231T130415Z
UID:7304191-1438128000-1438559999@blog.hippoline.lu
SUMMARY:Rockwood ON (CAN) CSI3*
DESCRIPTION:Rockwood ON (CAN) CSI3*
URL:https://blog.hippoline.lu/termin/rockwood-on-can-csi3-2/
CATEGORIES:FEI
END:VEVENT
BEGIN:VEVENT
DTSTART;VALUE=DATE:20150729
DTEND;VALUE=DATE:20150803
DTSTAMP:20260425T195036
CREATED:20141231T130415Z
LAST-MODIFIED:20141231T130415Z
UID:7304192-1438128000-1438559999@blog.hippoline.lu
SUMMARY:Fontainebleau (FRA) CSI1*
DESCRIPTION:Fontainebleau (FRA) CSI1*  CSI2*  CSIAm-B  CSICh-A  CSIJ-B  CSIP  CSIYH1*
URL:https://blog.hippoline.lu/termin/fontainebleau-fra-csi1-5/
CATEGORIES:FEI
END:VEVENT
BEGIN:VEVENT
DTSTART;VALUE=DATE:20150730
DTEND;VALUE=DATE:20150802
DTSTAMP:20260425T195036
CREATED:20141231T130416Z
LAST-MODIFIED:20141231T130416Z
UID:7304197-1438214400-1438473599@blog.hippoline.lu
SUMMARY:Rio Cuarto  Cordoba (ARG) CEI1*
DESCRIPTION:Rio Cuarto  Cordoba (ARG) CEI1* 80  CEI2* 120  CEIYJ1* 80  CEIYJ2* 120
URL:https://blog.hippoline.lu/termin/rio-cuarto-cordoba-arg-cei1/
CATEGORIES:FEI
END:VEVENT
BEGIN:VEVENT
DTSTART;VALUE=DATE:20150730
DTEND;VALUE=DATE:20150803
DTSTAMP:20260425T195036
CREATED:20141231T130415Z
LAST-MODIFIED:20141231T130415Z
UID:7304193-1438214400-1438559999@blog.hippoline.lu
SUMMARY:Courlans (FRA) CSI1*
DESCRIPTION:Courlans (FRA) CSI1*  CSI2*
URL:https://blog.hippoline.lu/termin/courlans-fra-csi1/
CATEGORIES:FEI
END:VEVENT
BEGIN:VEVENT
DTSTART;VALUE=DATE:20150730
DTEND;VALUE=DATE:20150803
DTSTAMP:20260425T195036
CREATED:20141231T130416Z
LAST-MODIFIED:20141231T130416Z
UID:7304201-1438214400-1438559999@blog.hippoline.lu
SUMMARY:Riesenbeck (GER) CAI3*-H4
DESCRIPTION:Riesenbeck (GER) CAI3*-H4 WCupQ  CAIO4*-H2  CAIO4*-H4
URL:https://blog.hippoline.lu/termin/riesenbeck-ger-cai3-h4/
CATEGORIES:FEI
END:VEVENT
BEGIN:VEVENT
DTSTART;VALUE=DATE:20150730
DTEND;VALUE=DATE:20150803
DTSTAMP:20260425T195036
CREATED:20141231T130416Z
LAST-MODIFIED:20141231T130416Z
UID:7304194-1438214400-1438559999@blog.hippoline.lu
SUMMARY:Dinard (FRA) CSI1*
DESCRIPTION:Dinard (FRA) CSI1*  CSI2*  CSI5*  CSIYH1*
URL:https://blog.hippoline.lu/termin/dinard-fra-csi1/
CATEGORIES:FEI
END:VEVENT
BEGIN:VEVENT
DTSTART;VALUE=DATE:20150730
DTEND;VALUE=DATE:20150803
DTSTAMP:20260425T195036
CREATED:20141231T130416Z
LAST-MODIFIED:20141231T130416Z
UID:7304202-1438214400-1438559999@blog.hippoline.lu
SUMMARY:Hickstead (GBR) CSIO5*-NC
DESCRIPTION:Hickstead (GBR) CSIO5*-NC EUD1
URL:https://blog.hippoline.lu/termin/hickstead-gbr-csio5-nc/
CATEGORIES:FEI
END:VEVENT
BEGIN:VEVENT
DTSTART;VALUE=DATE:20150730
DTEND;VALUE=DATE:20150803
DTSTAMP:20260425T195036
CREATED:20141231T130416Z
LAST-MODIFIED:20141231T130416Z
UID:7304195-1438214400-1438559999@blog.hippoline.lu
SUMMARY:Royan (FRA) CSI3*
DESCRIPTION:Royan (FRA) CSI3*  CSIAm-B  CSIYH1*
URL:https://blog.hippoline.lu/termin/royan-fra-csi3/
CATEGORIES:FEI
END:VEVENT
BEGIN:VEVENT
DTSTART;VALUE=DATE:20150730
DTEND;VALUE=DATE:20150803
DTSTAMP:20260425T195036
CREATED:20141231T130416Z
LAST-MODIFIED:20141231T130416Z
UID:7304203-1438214400-1438559999@blog.hippoline.lu
SUMMARY:Kristiansand (NOR) CSIJ-B
DESCRIPTION:Kristiansand (NOR) CSIJ-B  CSIP
URL:https://blog.hippoline.lu/termin/kristiansand-nor-csij-b/
CATEGORIES:FEI
END:VEVENT
BEGIN:VEVENT
DTSTART;VALUE=DATE:20150730
DTEND;VALUE=DATE:20150803
DTSTAMP:20260425T195036
CREATED:20141231T130416Z
LAST-MODIFIED:20141231T130416Z
UID:7304196-1438214400-1438559999@blog.hippoline.lu
SUMMARY:Nice (FRA) CSI1*
DESCRIPTION:Nice (FRA) CSI1*  CSIAm-B  CSIP
URL:https://blog.hippoline.lu/termin/nice-fra-csi1-2/
CATEGORIES:FEI
END:VEVENT
BEGIN:VEVENT
DTSTART;VALUE=DATE:20150730
DTEND;VALUE=DATE:20150803
DTSTAMP:20260425T195036
CREATED:20141231T130416Z
LAST-MODIFIED:20141231T130416Z
UID:7304204-1438214400-1438559999@blog.hippoline.lu
SUMMARY:Lier  (BEL) CSI2* 
DESCRIPTION:Lier  (BEL) CSI2*   CSIYH1* 
URL:https://blog.hippoline.lu/termin/lier-bel-csi2-6/
CATEGORIES:FEI
END:VEVENT
BEGIN:VEVENT
DTSTART;VALUE=DATE:20150730
DTEND;VALUE=DATE:20150803
DTSTAMP:20260425T195036
CREATED:20141231T130416Z
LAST-MODIFIED:20141231T130416Z
UID:7304198-1438214400-1438559999@blog.hippoline.lu
SUMMARY:Samorin (SVK) CSI3*
DESCRIPTION:Samorin (SVK) CSI3* Olympic Qualifier Group C  CSIAm-B  CSIL1*  CSIYH1*
URL:https://blog.hippoline.lu/termin/samorin-svk-csi3-2/
CATEGORIES:FEI
END:VEVENT
BEGIN:VEVENT
DTSTART;VALUE=DATE:20150730
DTEND;VALUE=DATE:20150803
DTSTAMP:20260425T195036
CREATED:20141231T130416Z
LAST-MODIFIED:20141231T130416Z
UID:7304199-1438214400-1438559999@blog.hippoline.lu
SUMMARY:Gatton QLD (AUS) CSI1*-W
DESCRIPTION:Gatton QLD (AUS) CSI1*-W
URL:https://blog.hippoline.lu/termin/gatton-qld-aus-csi1-w/
CATEGORIES:FEI
END:VEVENT
BEGIN:VEVENT
DTSTART;VALUE=DATE:20150730
DTEND;VALUE=DATE:20150803
DTSTAMP:20260425T195036
CREATED:20141231T130416Z
LAST-MODIFIED:20141231T130416Z
UID:7304200-1438214400-1438559999@blog.hippoline.lu
SUMMARY:Donaueschingen-Immenhöfe (GER) CSI2*
DESCRIPTION:Donaueschingen-Immenhöfe (GER) CSI2*  CSIAm-B   CSIYH1* 
URL:https://blog.hippoline.lu/termin/donaueschingen-immenhoefe-ger-csi2/
CATEGORIES:FEI
END:VEVENT
BEGIN:VEVENT
DTSTART;VALUE=DATE:20150731
DTEND;VALUE=DATE:20150802
DTSTAMP:20260425T195036
CREATED:20141231T130416Z
LAST-MODIFIED:20141231T130416Z
UID:7304205-1438300800-1438473599@blog.hippoline.lu
SUMMARY:Vitoria  (ESP) CEI1*
DESCRIPTION:Vitoria  (ESP) CEI1* 90   CEI2* 120 
URL:https://blog.hippoline.lu/termin/vitoria-esp-cei1/
CATEGORIES:FEI
END:VEVENT
BEGIN:VEVENT
DTSTART;VALUE=DATE:20150731
DTEND;VALUE=DATE:20150802
DTSTAMP:20260425T195036
CREATED:20141231T130417Z
LAST-MODIFIED:20141231T130417Z
UID:7304206-1438300800-1438473599@blog.hippoline.lu
SUMMARY:Kolesa  (CZE) CEI1*
DESCRIPTION:Kolesa  (CZE) CEI1* 100   CEIYJ1* 100 
URL:https://blog.hippoline.lu/termin/kolesa-cze-cei1/
CATEGORIES:FEI
END:VEVENT
BEGIN:VEVENT
DTSTART;VALUE=DATE:20150731
DTEND;VALUE=DATE:20150803
DTSTAMP:20260425T195036
CREATED:20141231T130417Z
LAST-MODIFIED:20141231T130417Z
UID:7304209-1438300800-1438559999@blog.hippoline.lu
SUMMARY:Molsridtet (DEN) CEI1*
DESCRIPTION:Molsridtet (DEN) CEI1* 80  CEI2* 120  CEI3* 160
URL:https://blog.hippoline.lu/termin/molsridtet-den-cei1/
CATEGORIES:FEI
END:VEVENT
BEGIN:VEVENT
DTSTART;VALUE=DATE:20150731
DTEND;VALUE=DATE:20150803
DTSTAMP:20260425T195036
CREATED:20141231T130417Z
LAST-MODIFIED:20141231T130417Z
UID:7304207-1438300800-1438559999@blog.hippoline.lu
SUMMARY:Unterbeuern (GER) CCI2*
DESCRIPTION:Unterbeuern (GER) CCI2*  CIC2*
URL:https://blog.hippoline.lu/termin/unterbeuern-ger-cci2/
CATEGORIES:FEI
END:VEVENT
BEGIN:VEVENT
DTSTART;VALUE=DATE:20150731
DTEND;VALUE=DATE:20150803
DTSTAMP:20260425T195036
CREATED:20141231T130417Z
LAST-MODIFIED:20141231T130417Z
UID:7304208-1438300800-1438559999@blog.hippoline.lu
SUMMARY:Riga (LAT) CSI2*-W
DESCRIPTION:Riga (LAT) CSI2*-W  CSIYH1*
URL:https://blog.hippoline.lu/termin/riga-lat-csi2-w/
CATEGORIES:FEI
END:VEVENT
BEGIN:VEVENT
DTSTART;VALUE=DATE:20150801
DTEND;VALUE=DATE:20150802
DTSTAMP:20260425T195036
CREATED:20141231T130417Z
LAST-MODIFIED:20141231T130417Z
UID:7304211-1438387200-1438473599@blog.hippoline.lu
SUMMARY:Lanaken - Endurance (BEL) CEI1*
DESCRIPTION:Lanaken – Endurance (BEL) CEI1* 100  CEI2* 120  CEIYJ2* 120
URL:https://blog.hippoline.lu/termin/lanaken-endurance-bel-cei1/
CATEGORIES:FEI
END:VEVENT
BEGIN:VEVENT
DTSTART;VALUE=DATE:20150801
DTEND;VALUE=DATE:20150802
DTSTAMP:20260425T195036
CREATED:20141231T130419Z
LAST-MODIFIED:20141231T130419Z
UID:7304213-1438387200-1438473599@blog.hippoline.lu
SUMMARY:Hanslope (GBR) CEI1*
DESCRIPTION:Hanslope (GBR) CEI1* 80  CEI2* 120  CEIYJ1* 80  CEIYJ2* 120
URL:https://blog.hippoline.lu/termin/hanslope-gbr-cei1/
CATEGORIES:FEI
END:VEVENT
BEGIN:VEVENT
DTSTART;VALUE=DATE:20150801
DTEND;VALUE=DATE:20150803
DTSTAMP:20260425T195036
CREATED:20141231T130417Z
LAST-MODIFIED:20141231T130417Z
UID:7304210-1438387200-1438559999@blog.hippoline.lu
SUMMARY:Fig Tree Pocket QLD (AUS) CIC1*
DESCRIPTION:Fig Tree Pocket QLD (AUS) CIC1*  CIC2*
URL:https://blog.hippoline.lu/termin/fig-tree-pocket-qld-aus-cic1/
CATEGORIES:FEI
END:VEVENT
BEGIN:VEVENT
DTSTART;VALUE=DATE:20150801
DTEND;VALUE=DATE:20150803
DTSTAMP:20260425T195036
CREATED:20141231T130417Z
LAST-MODIFIED:20141231T130417Z
UID:7304212-1438387200-1438559999@blog.hippoline.lu
SUMMARY:Itatiba SP (BRA) CEI1*
DESCRIPTION:Itatiba SP (BRA) CEI1* 80  CEI2* 120  CEIYJ1* 80  CEIYJ2* 120
URL:https://blog.hippoline.lu/termin/itatiba-sp-bra-cei1/
CATEGORIES:FEI
END:VEVENT
BEGIN:VEVENT
DTSTART;VALUE=DATE:20150801
DTEND;VALUE=DATE:20150803
DTSTAMP:20260425T195036
CREATED:20141231T130419Z
LAST-MODIFIED:20141231T130419Z
UID:7304214-1438387200-1438559999@blog.hippoline.lu
SUMMARY:Alnwick - Burgham (GBR) CIC2*
DESCRIPTION:Alnwick – Burgham (GBR) CIC2*  CIC3*
URL:https://blog.hippoline.lu/termin/alnwick-burgham-gbr-cic2-2/
CATEGORIES:FEI
END:VEVENT
BEGIN:VEVENT
DTSTART;VALUE=DATE:20150804
DTEND;VALUE=DATE:20150808
DTSTAMP:20260425T195036
CREATED:20141231T130419Z
LAST-MODIFIED:20141231T130419Z
UID:7304216-1438646400-1438991999@blog.hippoline.lu
SUMMARY:Bishop Burton (GBR) CPEDI1*
DESCRIPTION:Bishop Burton (GBR) CPEDI1*  CPEDI2*  CPEDI3*
URL:https://blog.hippoline.lu/termin/bishop-burton-gbr-cpedi1/
CATEGORIES:FEI
END:VEVENT
BEGIN:VEVENT
DTSTART;VALUE=DATE:20150804
DTEND;VALUE=DATE:20150810
DTSTAMP:20260425T195036
CREATED:20141231T130419Z
LAST-MODIFIED:20141231T130419Z
UID:7304215-1438646400-1439164799@blog.hippoline.lu
SUMMARY:Choczewo (POL) CSI3*
DESCRIPTION:Choczewo (POL) CSI3*  CSIYH1*
URL:https://blog.hippoline.lu/termin/choczewo-pol-csi3-2/
CATEGORIES:FEI
END:VEVENT
BEGIN:VEVENT
DTSTART;VALUE=DATE:20150804
DTEND;VALUE=DATE:20150810
DTSTAMP:20260425T195036
CREATED:20141231T130420Z
LAST-MODIFIED:20141231T130420Z
UID:7304217-1438646400-1439164799@blog.hippoline.lu
SUMMARY:San Giovanni in Marignano (ITA) CSI1*
DESCRIPTION:San Giovanni in Marignano (ITA) CSI1*  CSI2*  CSI3*  CSICh-A  CSIJ-B  CSIU25-A  CSIYH1*
URL:https://blog.hippoline.lu/termin/san-giovanni-in-marignano-ita-csi1-5/
CATEGORIES:FEI
END:VEVENT
BEGIN:VEVENT
DTSTART;VALUE=DATE:20150805
DTEND;VALUE=DATE:20150810
DTSTAMP:20260425T195036
CREATED:20141231T130420Z
LAST-MODIFIED:20141231T130420Z
UID:7304218-1438732800-1439164799@blog.hippoline.lu
SUMMARY:Ermelo (NED) CH-M-V
DESCRIPTION:Ermelo (NED) CH-M-V Juniors  CVI3*
URL:https://blog.hippoline.lu/termin/ermelo-ned-ch-m-v/
CATEGORIES:FEI
END:VEVENT
BEGIN:VEVENT
DTSTART;VALUE=DATE:20150805
DTEND;VALUE=DATE:20150810
DTSTAMP:20260425T195036
CREATED:20141231T130420Z
LAST-MODIFIED:20141231T130420Z
UID:7304219-1438732800-1439164799@blog.hippoline.lu
SUMMARY:Dublin (IRL) CSIO5*-NC
DESCRIPTION:Dublin (IRL) CSIO5*-NC EUD1  CSIYH1*
URL:https://blog.hippoline.lu/termin/dublin-irl-csio5-nc/
CATEGORIES:FEI
END:VEVENT
END:VCALENDAR