BEGIN:VCALENDAR
VERSION:2.0
PRODID:-//HIPPOline - ECPv6.15.18//NONSGML v1.0//EN
CALSCALE:GREGORIAN
METHOD:PUBLISH
X-ORIGINAL-URL:https://blog.hippoline.lu
X-WR-CALDESC:Veranstaltungen für HIPPOline
REFRESH-INTERVAL;VALUE=DURATION:PT1H
X-Robots-Tag:noindex
X-PUBLISHED-TTL:PT1H
BEGIN:VTIMEZONE
TZID:Europe/Luxembourg
BEGIN:DAYLIGHT
TZOFFSETFROM:+0100
TZOFFSETTO:+0200
TZNAME:CEST
DTSTART:20140330T010000
END:DAYLIGHT
BEGIN:STANDARD
TZOFFSETFROM:+0200
TZOFFSETTO:+0100
TZNAME:CET
DTSTART:20141026T010000
END:STANDARD
BEGIN:DAYLIGHT
TZOFFSETFROM:+0100
TZOFFSETTO:+0200
TZNAME:CEST
DTSTART:20150329T010000
END:DAYLIGHT
BEGIN:STANDARD
TZOFFSETFROM:+0200
TZOFFSETTO:+0100
TZNAME:CET
DTSTART:20151025T010000
END:STANDARD
BEGIN:DAYLIGHT
TZOFFSETFROM:+0100
TZOFFSETTO:+0200
TZNAME:CEST
DTSTART:20160327T010000
END:DAYLIGHT
BEGIN:STANDARD
TZOFFSETFROM:+0200
TZOFFSETTO:+0100
TZNAME:CET
DTSTART:20161030T010000
END:STANDARD
END:VTIMEZONE
BEGIN:VEVENT
DTSTART;VALUE=DATE:20151125
DTEND;VALUE=DATE:20151129
DTSTAMP:20260422T154639
CREATED:20141231T130511Z
LAST-MODIFIED:20141231T130511Z
UID:7304666-1448409600-1448755199@blog.hippoline.lu
SUMMARY:Riyadh (KSA) [CSI3*-W]
DESCRIPTION:Riyadh (KSA) [CSI3*-W]
URL:https://blog.hippoline.lu/termin/riyadh-ksa-csi3-w/
CATEGORIES:FEI
END:VEVENT
BEGIN:VEVENT
DTSTART;VALUE=DATE:20151125
DTEND;VALUE=DATE:20151130
DTSTAMP:20260422T154639
CREATED:20141231T130511Z
LAST-MODIFIED:20141231T130511Z
UID:7304664-1448409600-1448841599@blog.hippoline.lu
SUMMARY:Wellington FL (USA) CSI2*
DESCRIPTION:Wellington FL (USA) CSI2*
URL:https://blog.hippoline.lu/termin/wellington-fl-usa-csi2-2/
CATEGORIES:FEI
END:VEVENT
BEGIN:VEVENT
DTSTART;VALUE=DATE:20151125
DTEND;VALUE=DATE:20151130
DTSTAMP:20260422T154639
CREATED:20141231T130511Z
LAST-MODIFIED:20141231T130511Z
UID:7304665-1448409600-1448841599@blog.hippoline.lu
SUMMARY:Cape Town (RSA) CSI1*-W
DESCRIPTION:Cape Town (RSA) CSI1*-W
URL:https://blog.hippoline.lu/termin/cape-town-rsa-csi1-w/
CATEGORIES:FEI
END:VEVENT
END:VCALENDAR