BEGIN:VCALENDAR
VERSION:2.0
PRODID:-//HIPPOline - ECPv6.15.18//NONSGML v1.0//EN
CALSCALE:GREGORIAN
METHOD:PUBLISH
X-WR-CALNAME:HIPPOline
X-ORIGINAL-URL:https://blog.hippoline.lu
X-WR-CALDESC:Veranstaltungen für HIPPOline
REFRESH-INTERVAL;VALUE=DURATION:PT1H
X-Robots-Tag:noindex
X-PUBLISHED-TTL:PT1H
BEGIN:VTIMEZONE
TZID:Europe/Luxembourg
BEGIN:DAYLIGHT
TZOFFSETFROM:+0100
TZOFFSETTO:+0200
TZNAME:CEST
DTSTART:20140330T010000
END:DAYLIGHT
BEGIN:STANDARD
TZOFFSETFROM:+0200
TZOFFSETTO:+0100
TZNAME:CET
DTSTART:20141026T010000
END:STANDARD
BEGIN:DAYLIGHT
TZOFFSETFROM:+0100
TZOFFSETTO:+0200
TZNAME:CEST
DTSTART:20150329T010000
END:DAYLIGHT
BEGIN:STANDARD
TZOFFSETFROM:+0200
TZOFFSETTO:+0100
TZNAME:CET
DTSTART:20151025T010000
END:STANDARD
BEGIN:DAYLIGHT
TZOFFSETFROM:+0100
TZOFFSETTO:+0200
TZNAME:CEST
DTSTART:20160327T010000
END:DAYLIGHT
BEGIN:STANDARD
TZOFFSETFROM:+0200
TZOFFSETTO:+0100
TZNAME:CET
DTSTART:20161030T010000
END:STANDARD
END:VTIMEZONE
BEGIN:VEVENT
DTSTART;VALUE=DATE:20151117
DTEND;VALUE=DATE:20151123
DTSTAMP:20260422T074618
CREATED:20141231T130509Z
LAST-MODIFIED:20141231T130509Z
UID:7304643-1447718400-1448236799@blog.hippoline.lu
SUMMARY:Aix-Meyreuil (FRA) CSI1*
DESCRIPTION:Aix-Meyreuil (FRA) CSI1*  CSI2*
URL:https://blog.hippoline.lu/termin/aix-meyreuil-fra-csi1-2/
CATEGORIES:FEI
END:VEVENT
BEGIN:VEVENT
DTSTART;VALUE=DATE:20151117
DTEND;VALUE=DATE:20151123
DTSTAMP:20260422T074618
CREATED:20141231T130509Z
LAST-MODIFIED:20141231T130509Z
UID:7304644-1447718400-1448236799@blog.hippoline.lu
SUMMARY:Mijas (ESP) CSI1*
DESCRIPTION:Mijas (ESP) CSI1*  CSI3*  CSIYH1*
URL:https://blog.hippoline.lu/termin/mijas-esp-csi1-10/
CATEGORIES:FEI
END:VEVENT
BEGIN:VEVENT
DTSTART;VALUE=DATE:20151117
DTEND;VALUE=DATE:20151123
DTSTAMP:20260422T074618
CREATED:20141231T130509Z
LAST-MODIFIED:20141231T130509Z
UID:7304645-1447718400-1448236799@blog.hippoline.lu
SUMMARY:Oliva  Valencia  (ESP) CSI2* 
DESCRIPTION:Oliva  Valencia  (ESP) CSI2*   CSIYH1* 
URL:https://blog.hippoline.lu/termin/oliva-valencia-esp-csi2-4/
CATEGORIES:FEI
END:VEVENT
BEGIN:VEVENT
DTSTART;VALUE=DATE:20151118
DTEND;VALUE=DATE:20151123
DTSTAMP:20260422T074618
CREATED:20141231T130509Z
LAST-MODIFIED:20141231T130509Z
UID:7304646-1447804800-1448236799@blog.hippoline.lu
SUMMARY:Stuttgart (GER) CSI5*-W
DESCRIPTION:Stuttgart (GER) CSI5*-W  CDI-W  CDI4*  CAI-W  CVI-W
URL:https://blog.hippoline.lu/termin/stuttgart-ger-csi5-w/
CATEGORIES:FEI
END:VEVENT
BEGIN:VEVENT
DTSTART;VALUE=DATE:20151119
DTEND;VALUE=DATE:20151122
DTSTAMP:20260422T074618
CREATED:20141231T130509Z
LAST-MODIFIED:20141231T130509Z
UID:7304651-1447891200-1448150399@blog.hippoline.lu
SUMMARY:Baku (AZE) CSI1*-W
DESCRIPTION:Baku (AZE) CSI1*-W  CSI2*
URL:https://blog.hippoline.lu/termin/baku-aze-csi1-w-5/
CATEGORIES:FEI
END:VEVENT
BEGIN:VEVENT
DTSTART;VALUE=DATE:20151119
DTEND;VALUE=DATE:20151123
DTSTAMP:20260422T074618
CREATED:20141231T130509Z
LAST-MODIFIED:20141231T130509Z
UID:7304650-1447891200-1448236799@blog.hippoline.lu
SUMMARY:Adelaide SA (AUS) CCI2*
DESCRIPTION:Adelaide SA (AUS) CCI2*  CCI4*  CCIY2*  CAI1*-H4
URL:https://blog.hippoline.lu/termin/adelaide-sa-aus-cci2/
CATEGORIES:FEI
END:VEVENT
BEGIN:VEVENT
DTSTART;VALUE=DATE:20151119
DTEND;VALUE=DATE:20151123
DTSTAMP:20260422T074618
CREATED:20141231T130509Z
LAST-MODIFIED:20141231T130509Z
UID:7304647-1447891200-1448236799@blog.hippoline.lu
SUMMARY:Ebreichsdorf (AUT) CSI2*
DESCRIPTION:Ebreichsdorf (AUT) CSI2*  CSICh-A  CSIJ-B  CSIP  CSIYH1*
URL:https://blog.hippoline.lu/termin/ebreichsdorf-aut-csi2-3/
CATEGORIES:FEI
END:VEVENT
BEGIN:VEVENT
DTSTART;VALUE=DATE:20151119
DTEND;VALUE=DATE:20151123
DTSTAMP:20260422T074618
CREATED:20141231T130509Z
LAST-MODIFIED:20141231T130509Z
UID:7304648-1447891200-1448236799@blog.hippoline.lu
SUMMARY:Strazeele (FRA) CSI1*
DESCRIPTION:Strazeele (FRA) CSI1*  CSI2*
URL:https://blog.hippoline.lu/termin/strazeele-fra-csi1-4/
CATEGORIES:FEI
END:VEVENT
BEGIN:VEVENT
DTSTART;VALUE=DATE:20151119
DTEND;VALUE=DATE:20151123
DTSTAMP:20260422T074618
CREATED:20141231T130509Z
LAST-MODIFIED:20141231T130509Z
UID:7304649-1447891200-1448236799@blog.hippoline.lu
SUMMARY:Parma  Fiera (ITA) CSI1*
DESCRIPTION:Parma  Fiera (ITA) CSI1*  CSI3*
URL:https://blog.hippoline.lu/termin/parma-fiera-ita-csi1/
CATEGORIES:FEI
END:VEVENT
BEGIN:VEVENT
DTSTART;VALUE=DATE:20151119
DTEND;VALUE=DATE:20151123
DTSTAMP:20260422T074618
CREATED:20141231T130510Z
LAST-MODIFIED:20141231T130510Z
UID:7304652-1447891200-1448236799@blog.hippoline.lu
SUMMARY:Lier  (BEL) CSI2* 
DESCRIPTION:Lier  (BEL) CSI2*   CSIYH1* 
URL:https://blog.hippoline.lu/termin/lier-bel-csi2-8/
CATEGORIES:FEI
END:VEVENT
END:VCALENDAR