BEGIN:VCALENDAR
VERSION:2.0
PRODID:-//HIPPOline - ECPv6.15.18//NONSGML v1.0//EN
CALSCALE:GREGORIAN
METHOD:PUBLISH
X-ORIGINAL-URL:https://blog.hippoline.lu
X-WR-CALDESC:Veranstaltungen für HIPPOline
REFRESH-INTERVAL;VALUE=DURATION:PT1H
X-Robots-Tag:noindex
X-PUBLISHED-TTL:PT1H
BEGIN:VTIMEZONE
TZID:Europe/Luxembourg
BEGIN:DAYLIGHT
TZOFFSETFROM:+0100
TZOFFSETTO:+0200
TZNAME:CEST
DTSTART:20140330T010000
END:DAYLIGHT
BEGIN:STANDARD
TZOFFSETFROM:+0200
TZOFFSETTO:+0100
TZNAME:CET
DTSTART:20141026T010000
END:STANDARD
BEGIN:DAYLIGHT
TZOFFSETFROM:+0100
TZOFFSETTO:+0200
TZNAME:CEST
DTSTART:20150329T010000
END:DAYLIGHT
BEGIN:STANDARD
TZOFFSETFROM:+0200
TZOFFSETTO:+0100
TZNAME:CET
DTSTART:20151025T010000
END:STANDARD
BEGIN:DAYLIGHT
TZOFFSETFROM:+0100
TZOFFSETTO:+0200
TZNAME:CEST
DTSTART:20160327T010000
END:DAYLIGHT
BEGIN:STANDARD
TZOFFSETFROM:+0200
TZOFFSETTO:+0100
TZNAME:CET
DTSTART:20161030T010000
END:STANDARD
END:VTIMEZONE
BEGIN:VEVENT
DTSTART;VALUE=DATE:20151117
DTEND;VALUE=DATE:20151123
DTSTAMP:20260422T080654
CREATED:20141231T130509Z
LAST-MODIFIED:20141231T130509Z
UID:7304644-1447718400-1448236799@blog.hippoline.lu
SUMMARY:Mijas (ESP) CSI1*
DESCRIPTION:Mijas (ESP) CSI1*  CSI3*  CSIYH1*
URL:https://blog.hippoline.lu/termin/mijas-esp-csi1-10/
CATEGORIES:FEI
END:VEVENT
BEGIN:VEVENT
DTSTART;VALUE=DATE:20151117
DTEND;VALUE=DATE:20151123
DTSTAMP:20260422T080654
CREATED:20141231T130509Z
LAST-MODIFIED:20141231T130509Z
UID:7304645-1447718400-1448236799@blog.hippoline.lu
SUMMARY:Oliva  Valencia  (ESP) CSI2* 
DESCRIPTION:Oliva  Valencia  (ESP) CSI2*   CSIYH1* 
URL:https://blog.hippoline.lu/termin/oliva-valencia-esp-csi2-4/
CATEGORIES:FEI
END:VEVENT
BEGIN:VEVENT
DTSTART;VALUE=DATE:20151117
DTEND;VALUE=DATE:20151123
DTSTAMP:20260422T080654
CREATED:20141231T130509Z
LAST-MODIFIED:20141231T130509Z
UID:7304643-1447718400-1448236799@blog.hippoline.lu
SUMMARY:Aix-Meyreuil (FRA) CSI1*
DESCRIPTION:Aix-Meyreuil (FRA) CSI1*  CSI2*
URL:https://blog.hippoline.lu/termin/aix-meyreuil-fra-csi1-2/
CATEGORIES:FEI
END:VEVENT
END:VCALENDAR