BEGIN:VCALENDAR
VERSION:2.0
PRODID:-//HIPPOline - ECPv6.15.18//NONSGML v1.0//EN
CALSCALE:GREGORIAN
METHOD:PUBLISH
X-ORIGINAL-URL:https://blog.hippoline.lu
X-WR-CALDESC:Veranstaltungen für HIPPOline
REFRESH-INTERVAL;VALUE=DURATION:PT1H
X-Robots-Tag:noindex
X-PUBLISHED-TTL:PT1H
BEGIN:VTIMEZONE
TZID:Europe/Luxembourg
BEGIN:DAYLIGHT
TZOFFSETFROM:+0100
TZOFFSETTO:+0200
TZNAME:CEST
DTSTART:20140330T010000
END:DAYLIGHT
BEGIN:STANDARD
TZOFFSETFROM:+0200
TZOFFSETTO:+0100
TZNAME:CET
DTSTART:20141026T010000
END:STANDARD
BEGIN:DAYLIGHT
TZOFFSETFROM:+0100
TZOFFSETTO:+0200
TZNAME:CEST
DTSTART:20150329T010000
END:DAYLIGHT
BEGIN:STANDARD
TZOFFSETFROM:+0200
TZOFFSETTO:+0100
TZNAME:CET
DTSTART:20151025T010000
END:STANDARD
BEGIN:DAYLIGHT
TZOFFSETFROM:+0100
TZOFFSETTO:+0200
TZNAME:CEST
DTSTART:20160327T010000
END:DAYLIGHT
BEGIN:STANDARD
TZOFFSETFROM:+0200
TZOFFSETTO:+0100
TZNAME:CET
DTSTART:20161030T010000
END:STANDARD
END:VTIMEZONE
BEGIN:VEVENT
DTSTART;VALUE=DATE:20151108
DTEND;VALUE=DATE:20151111
DTSTAMP:20260422T080642
CREATED:20141231T130507Z
LAST-MODIFIED:20141231T130507Z
UID:7304620-1446940800-1447199999@blog.hippoline.lu
SUMMARY:Barcelona  (ESP) CSIV-B 
DESCRIPTION:Barcelona  (ESP) CSIV-B 
URL:https://blog.hippoline.lu/termin/barcelona-esp-csiv-b/
CATEGORIES:FEI
END:VEVENT
BEGIN:VEVENT
DTSTART;VALUE=DATE:20151110
DTEND;VALUE=DATE:20151115
DTSTAMP:20260422T080642
CREATED:20141231T130507Z
LAST-MODIFIED:20141231T130507Z
UID:7304626-1447113600-1447545599@blog.hippoline.lu
SUMMARY:Toronto ON (CAN) CSI4*-W
DESCRIPTION:Toronto ON (CAN) CSI4*-W
URL:https://blog.hippoline.lu/termin/toronto-on-can-csi4-w/
CATEGORIES:FEI
END:VEVENT
BEGIN:VEVENT
DTSTART;VALUE=DATE:20151110
DTEND;VALUE=DATE:20151116
DTSTAMP:20260422T080642
CREATED:20141231T130507Z
LAST-MODIFIED:20141231T130507Z
UID:7304627-1447113600-1447631999@blog.hippoline.lu
SUMMARY:Oliva  Valencia  (ESP) CSI2* 
DESCRIPTION:Oliva  Valencia  (ESP) CSI2*   CSIYH1* 
URL:https://blog.hippoline.lu/termin/oliva-valencia-esp-csi2-3/
CATEGORIES:FEI
END:VEVENT
BEGIN:VEVENT
DTSTART;VALUE=DATE:20151110
DTEND;VALUE=DATE:20151116
DTSTAMP:20260422T080642
CREATED:20141231T130507Z
LAST-MODIFIED:20141231T130507Z
UID:7304621-1447113600-1447631999@blog.hippoline.lu
SUMMARY:Lier  (BEL) CDIJ 
DESCRIPTION:Lier  (BEL) CDIJ   CDIP   CDIU25   CDIY   CDIYH 
URL:https://blog.hippoline.lu/termin/lier-bel-cdij/
CATEGORIES:FEI
END:VEVENT
BEGIN:VEVENT
DTSTART;VALUE=DATE:20151110
DTEND;VALUE=DATE:20151116
DTSTAMP:20260422T080642
CREATED:20141231T130507Z
LAST-MODIFIED:20141231T130507Z
UID:7304622-1447113600-1447631999@blog.hippoline.lu
SUMMARY:Enfield (IRL) CSI2*
DESCRIPTION:Enfield (IRL) CSI2*  CSI2*
URL:https://blog.hippoline.lu/termin/enfield-irl-csi2-2/
CATEGORIES:FEI
END:VEVENT
BEGIN:VEVENT
DTSTART;VALUE=DATE:20151110
DTEND;VALUE=DATE:20151116
DTSTAMP:20260422T080642
CREATED:20141231T130507Z
LAST-MODIFIED:20141231T130507Z
UID:7304623-1447113600-1447631999@blog.hippoline.lu
SUMMARY:Las Vegas NV (USA) CSI4*-W
DESCRIPTION:Las Vegas NV (USA) CSI4*-W
URL:https://blog.hippoline.lu/termin/las-vegas-nv-usa-csi4-w/
CATEGORIES:FEI
END:VEVENT
BEGIN:VEVENT
DTSTART;VALUE=DATE:20151110
DTEND;VALUE=DATE:20151116
DTSTAMP:20260422T080642
CREATED:20141231T130507Z
LAST-MODIFIED:20141231T130507Z
UID:7304624-1447113600-1447631999@blog.hippoline.lu
SUMMARY:Mijas (ESP) CSI1*
DESCRIPTION:Mijas (ESP) CSI1*  CSI3*  CSIYH1*
URL:https://blog.hippoline.lu/termin/mijas-esp-csi1-9/
CATEGORIES:FEI
END:VEVENT
BEGIN:VEVENT
DTSTART;VALUE=DATE:20151110
DTEND;VALUE=DATE:20151116
DTSTAMP:20260422T080642
CREATED:20141231T130507Z
LAST-MODIFIED:20141231T130507Z
UID:7304625-1447113600-1447631999@blog.hippoline.lu
SUMMARY:Aix-Meyreuil (FRA) CSI1*
DESCRIPTION:Aix-Meyreuil (FRA) CSI1*  CSI2*
URL:https://blog.hippoline.lu/termin/aix-meyreuil-fra-csi1/
CATEGORIES:FEI
END:VEVENT
END:VCALENDAR