BEGIN:VCALENDAR
VERSION:2.0
PRODID:-//HIPPOline - ECPv6.15.18//NONSGML v1.0//EN
CALSCALE:GREGORIAN
METHOD:PUBLISH
X-ORIGINAL-URL:https://blog.hippoline.lu
X-WR-CALDESC:Veranstaltungen für HIPPOline
REFRESH-INTERVAL;VALUE=DURATION:PT1H
X-Robots-Tag:noindex
X-PUBLISHED-TTL:PT1H
BEGIN:VTIMEZONE
TZID:Europe/Luxembourg
BEGIN:DAYLIGHT
TZOFFSETFROM:+0100
TZOFFSETTO:+0200
TZNAME:CEST
DTSTART:20140330T010000
END:DAYLIGHT
BEGIN:STANDARD
TZOFFSETFROM:+0200
TZOFFSETTO:+0100
TZNAME:CET
DTSTART:20141026T010000
END:STANDARD
BEGIN:DAYLIGHT
TZOFFSETFROM:+0100
TZOFFSETTO:+0200
TZNAME:CEST
DTSTART:20150329T010000
END:DAYLIGHT
BEGIN:STANDARD
TZOFFSETFROM:+0200
TZOFFSETTO:+0100
TZNAME:CET
DTSTART:20151025T010000
END:STANDARD
BEGIN:DAYLIGHT
TZOFFSETFROM:+0100
TZOFFSETTO:+0200
TZNAME:CEST
DTSTART:20160327T010000
END:DAYLIGHT
BEGIN:STANDARD
TZOFFSETFROM:+0200
TZOFFSETTO:+0100
TZNAME:CET
DTSTART:20161030T010000
END:STANDARD
END:VTIMEZONE
BEGIN:VEVENT
DTSTART;VALUE=DATE:20151019
DTEND;VALUE=DATE:20151026
DTSTAMP:20260422T112329
CREATED:20141231T130457Z
LAST-MODIFIED:20141231T130457Z
UID:7304546-1445212800-1445817599@blog.hippoline.lu
SUMMARY:Ajaccio (FRA) CSI1*
DESCRIPTION:Ajaccio (FRA) CSI1*  CSI2*
URL:https://blog.hippoline.lu/termin/ajaccio-fra-csi1/
CATEGORIES:FEI
END:VEVENT
BEGIN:VEVENT
DTSTART;VALUE=DATE:20151020
DTEND;VALUE=DATE:20151026
DTSTAMP:20260422T112329
CREATED:20141231T130457Z
LAST-MODIFIED:20141231T130457Z
UID:7304547-1445299200-1445817599@blog.hippoline.lu
SUMMARY:Washington DC (USA) CSI4*-W
DESCRIPTION:Washington DC (USA) CSI4*-W
URL:https://blog.hippoline.lu/termin/washington-dc-usa-csi4-w/
CATEGORIES:FEI
END:VEVENT
BEGIN:VEVENT
DTSTART;VALUE=DATE:20151020
DTEND;VALUE=DATE:20151026
DTSTAMP:20260422T112329
CREATED:20141231T130457Z
LAST-MODIFIED:20141231T130457Z
UID:7304548-1445299200-1445817599@blog.hippoline.lu
SUMMARY:Oliva  Valencia  (ESP) CSI2* 
DESCRIPTION:Oliva  Valencia  (ESP) CSI2*   CSIYH1* 
URL:https://blog.hippoline.lu/termin/oliva-valencia-esp-csi2/
CATEGORIES:FEI
END:VEVENT
BEGIN:VEVENT
DTSTART;VALUE=DATE:20151020
DTEND;VALUE=DATE:20151026
DTSTAMP:20260422T112329
CREATED:20141231T130457Z
LAST-MODIFIED:20141231T130457Z
UID:7304549-1445299200-1445817599@blog.hippoline.lu
SUMMARY:Monterrey  (MEX) CSI2* 
DESCRIPTION:Monterrey  (MEX) CSI2*   CSIAm-A   CSICh-A   CSIJ-A 
URL:https://blog.hippoline.lu/termin/monterrey-mex-csi2/
CATEGORIES:FEI
END:VEVENT
BEGIN:VEVENT
DTSTART;VALUE=DATE:20151021
DTEND;VALUE=DATE:20151026
DTSTAMP:20260422T112329
CREATED:20141231T130457Z
LAST-MODIFIED:20141231T130457Z
UID:7304550-1445385600-1445817599@blog.hippoline.lu
SUMMARY:Pau (FRA) CCI4*
DESCRIPTION:Pau (FRA) CCI4*  CIC2*
URL:https://blog.hippoline.lu/termin/pau-fra-cci4/
CATEGORIES:FEI
END:VEVENT
BEGIN:VEVENT
DTSTART;VALUE=DATE:20151021
DTEND;VALUE=DATE:20151026
DTSTAMP:20260422T112329
CREATED:20141231T130457Z
LAST-MODIFIED:20141231T130457Z
UID:7304551-1445385600-1445817599@blog.hippoline.lu
SUMMARY:Wiener Neustadt (AUT) CSI2*
DESCRIPTION:Wiener Neustadt (AUT) CSI2*  CSI3*  CSIYH1*
URL:https://blog.hippoline.lu/termin/wiener-neustadt-aut-csi2-4/
CATEGORIES:FEI
END:VEVENT
BEGIN:VEVENT
DTSTART;VALUE=DATE:20151021
DTEND;VALUE=DATE:20151026
DTSTAMP:20260422T112329
CREATED:20141231T130457Z
LAST-MODIFIED:20141231T130457Z
UID:7304553-1445385600-1445817599@blog.hippoline.lu
SUMMARY:Lexington KY (USA) CCI1* 
DESCRIPTION:Lexington KY (USA) CCI1* 
URL:https://blog.hippoline.lu/termin/lexington-ky-usa-cci1/
CATEGORIES:FEI
END:VEVENT
BEGIN:VEVENT
DTSTART;VALUE=DATE:20151022
DTEND;VALUE=DATE:20151025
DTSTAMP:20260422T112329
CREATED:20141231T130458Z
LAST-MODIFIED:20141231T130458Z
UID:7304563-1445472000-1445731199@blog.hippoline.lu
SUMMARY:Slapton - Bury Farm (GBR) CSI3*
DESCRIPTION:Slapton – Bury Farm (GBR) CSI3*  CSIAm-B
URL:https://blog.hippoline.lu/termin/slapton-bury-farm-gbr-csi3/
CATEGORIES:FEI
END:VEVENT
BEGIN:VEVENT
DTSTART;VALUE=DATE:20151022
DTEND;VALUE=DATE:20151026
DTSTAMP:20260422T112329
CREATED:20141231T130457Z
LAST-MODIFIED:20141231T130457Z
UID:7304554-1445472000-1445817599@blog.hippoline.lu
SUMMARY:St Lô (FRA) CSI1*
DESCRIPTION:St Lô (FRA) CSI1*  CSI3*
URL:https://blog.hippoline.lu/termin/st-lo-fra-csi1-2/
CATEGORIES:FEI
END:VEVENT
BEGIN:VEVENT
DTSTART;VALUE=DATE:20151022
DTEND;VALUE=DATE:20151026
DTSTAMP:20260422T112329
CREATED:20141231T130457Z
LAST-MODIFIED:20141231T130457Z
UID:7304555-1445472000-1445817599@blog.hippoline.lu
SUMMARY:Strazeele (FRA) CSI1*
DESCRIPTION:Strazeele (FRA) CSI1*  CSI2*
URL:https://blog.hippoline.lu/termin/strazeele-fra-csi1-3/
CATEGORIES:FEI
END:VEVENT
BEGIN:VEVENT
DTSTART;VALUE=DATE:20151022
DTEND;VALUE=DATE:20151026
DTSTAMP:20260422T112329
CREATED:20141231T130458Z
LAST-MODIFIED:20141231T130458Z
UID:7304559-1445472000-1445817599@blog.hippoline.lu
SUMMARY:Porto Alegre RS (BRA) CSI1*
DESCRIPTION:Porto Alegre RS (BRA) CSI1*  [CSIO4*-W]  CSIYH1* incl. 8yo
URL:https://blog.hippoline.lu/termin/porto-alegre-rs-bra-csi1/
CATEGORIES:FEI
END:VEVENT
BEGIN:VEVENT
DTSTART;VALUE=DATE:20151022
DTEND;VALUE=DATE:20151026
DTSTAMP:20260422T112329
CREATED:20141231T130458Z
LAST-MODIFIED:20141231T130458Z
UID:7304560-1445472000-1445817599@blog.hippoline.lu
SUMMARY:São Paulo SP (BRA) CDI3*
DESCRIPTION:São Paulo SP (BRA) CDI3*  CDIJ  CDIY
URL:https://blog.hippoline.lu/termin/sao-paulo-sp-bra-cdi3-4/
CATEGORIES:FEI
END:VEVENT
BEGIN:VEVENT
DTSTART;VALUE=DATE:20151022
DTEND;VALUE=DATE:20151026
DTSTAMP:20260422T112329
CREATED:20141231T130458Z
LAST-MODIFIED:20141231T130458Z
UID:7304561-1445472000-1445817599@blog.hippoline.lu
SUMMARY:Vladikavkaz (RUS) CCI1*
DESCRIPTION:Vladikavkaz (RUS) CCI1*  CCI3*  CIC2*  CIC3*
URL:https://blog.hippoline.lu/termin/vladikavkaz-rus-cci1/
CATEGORIES:FEI
END:VEVENT
BEGIN:VEVENT
DTSTART;VALUE=DATE:20151022
DTEND;VALUE=DATE:20151026
DTSTAMP:20260422T112329
CREATED:20141231T130458Z
LAST-MODIFIED:20141231T130458Z
UID:7304562-1445472000-1445817599@blog.hippoline.lu
SUMMARY:Aldon (GBR) CCI1*
DESCRIPTION:Aldon (GBR) CCI1*  CIC1*
URL:https://blog.hippoline.lu/termin/aldon-gbr-cci1/
CATEGORIES:FEI
END:VEVENT
BEGIN:VEVENT
DTSTART;VALUE=DATE:20151022
DTEND;VALUE=DATE:20151026
DTSTAMP:20260422T112329
CREATED:20141231T130458Z
LAST-MODIFIED:20141231T130458Z
UID:7304556-1445472000-1445817599@blog.hippoline.lu
SUMMARY:Pinerolo (ITA) CSI1*
DESCRIPTION:Pinerolo (ITA) CSI1*  CSIAm-A  CSICh-A  CSIJ-B  CSIP  CSIV-A  CSIYH1*
URL:https://blog.hippoline.lu/termin/pinerolo-ita-csi1/
CATEGORIES:FEI
END:VEVENT
BEGIN:VEVENT
DTSTART;VALUE=DATE:20151022
DTEND;VALUE=DATE:20151026
DTSTAMP:20260422T112329
CREATED:20141231T130458Z
LAST-MODIFIED:20141231T130458Z
UID:7304564-1445472000-1445817599@blog.hippoline.lu
SUMMARY:Kromdraai (RSA) CSI1*-W
DESCRIPTION:Kromdraai (RSA) CSI1*-W
URL:https://blog.hippoline.lu/termin/kromdraai-rsa-csi1-w/
CATEGORIES:FEI
END:VEVENT
BEGIN:VEVENT
DTSTART;VALUE=DATE:20151022
DTEND;VALUE=DATE:20151026
DTSTAMP:20260422T112329
CREATED:20141231T130458Z
LAST-MODIFIED:20141231T130458Z
UID:7304557-1445472000-1445817599@blog.hippoline.lu
SUMMARY:San Giovanni in Marignano (ITA) CSI1*
DESCRIPTION:San Giovanni in Marignano (ITA) CSI1*  CSI2*  CSI3*  CSICh-A  CSIJ-B  CSIP  CSIU25-A  CSIYH1*
URL:https://blog.hippoline.lu/termin/san-giovanni-in-marignano-ita-csi1-7/
CATEGORIES:FEI
END:VEVENT
BEGIN:VEVENT
DTSTART;VALUE=DATE:20151022
DTEND;VALUE=DATE:20151026
DTSTAMP:20260422T112329
CREATED:20141231T130458Z
LAST-MODIFIED:20141231T130458Z
UID:7304565-1445472000-1445817599@blog.hippoline.lu
SUMMARY:Helsinki (FIN) CSI5*-W
DESCRIPTION:Helsinki (FIN) CSI5*-W  CSIJ-A  CSIY-A  CDI3*
URL:https://blog.hippoline.lu/termin/helsinki-fin-csi5-w/
CATEGORIES:FEI
END:VEVENT
BEGIN:VEVENT
DTSTART;VALUE=DATE:20151022
DTEND;VALUE=DATE:20151026
DTSTAMP:20260422T112329
CREATED:20141231T130458Z
LAST-MODIFIED:20141231T130458Z
UID:7304558-1445472000-1445817599@blog.hippoline.lu
SUMMARY:Arezzo (ITA) CDI3*
DESCRIPTION:Arezzo (ITA) CDI3*  CDIJ  CDIP  CDIY  CDIYH  CPEDI3*
URL:https://blog.hippoline.lu/termin/arezzo-ita-cdi3-2/
CATEGORIES:FEI
END:VEVENT
BEGIN:VEVENT
DTSTART;VALUE=DATE:20151022
DTEND;VALUE=DATE:20151026
DTSTAMP:20260422T112329
CREATED:20141231T130459Z
LAST-MODIFIED:20141231T130459Z
UID:7304567-1445472000-1445817599@blog.hippoline.lu
SUMMARY:Neumünster (GER) CSI1*
DESCRIPTION:Neumünster (GER) CSI1*  CSIP
URL:https://blog.hippoline.lu/termin/neumuenster-ger-csi1/
CATEGORIES:FEI
END:VEVENT
BEGIN:VEVENT
DTSTART;VALUE=DATE:20151022
DTEND;VALUE=DATE:20151101
DTSTAMP:20260422T112329
CREATED:20141231T130458Z
LAST-MODIFIED:20141231T130458Z
UID:7304566-1445472000-1446335999@blog.hippoline.lu
SUMMARY:Calgary  Stampede Park AB (CAN) CSI3*-W
DESCRIPTION:Calgary  Stampede Park AB (CAN) CSI3*-W
URL:https://blog.hippoline.lu/termin/calgary-stampede-park-ab-can-csi3-w/
CATEGORIES:FEI
END:VEVENT
BEGIN:VEVENT
DTSTART;VALUE=DATE:20151023
DTEND;VALUE=DATE:20151025
DTSTAMP:20260422T112329
CREATED:20141231T130459Z
LAST-MODIFIED:20141231T130459Z
UID:7304568-1445558400-1445731199@blog.hippoline.lu
SUMMARY:Santo Domingo (CHI) CEI1*
DESCRIPTION:Santo Domingo (CHI) CEI1* 80   CEI2* 120   CEIYJ1* 80   CEIYJ2* 120   CH-M-YJ-E 120
URL:https://blog.hippoline.lu/termin/santo-domingo-chi-cei1-2/
CATEGORIES:FEI
END:VEVENT
BEGIN:VEVENT
DTSTART;VALUE=DATE:20151023
DTEND;VALUE=DATE:20151025
DTSTAMP:20260422T112329
CREATED:20141231T130459Z
LAST-MODIFIED:20141231T130459Z
UID:7304574-1445558400-1445731199@blog.hippoline.lu
SUMMARY:Esquel (ARG) CEI1*
DESCRIPTION:Esquel (ARG) CEI1* 80  CEIYJ1* 80
URL:https://blog.hippoline.lu/termin/esquel-arg-cei1/
CATEGORIES:FEI
END:VEVENT
BEGIN:VEVENT
DTSTART;VALUE=DATE:20151023
DTEND;VALUE=DATE:20151026
DTSTAMP:20260422T112329
CREATED:20141231T130459Z
LAST-MODIFIED:20141231T130459Z
UID:7304575-1445558400-1445817599@blog.hippoline.lu
SUMMARY:Le Mans (FRA) CDI3*
DESCRIPTION:Le Mans (FRA) CDI3*  CDIU25
URL:https://blog.hippoline.lu/termin/le-mans-fra-cdi3/
CATEGORIES:FEI
END:VEVENT
BEGIN:VEVENT
DTSTART;VALUE=DATE:20151023
DTEND;VALUE=DATE:20151026
DTSTAMP:20260422T112329
CREATED:20141231T130459Z
LAST-MODIFIED:20141231T130459Z
UID:7304569-1445558400-1445817599@blog.hippoline.lu
SUMMARY:Leszno (POL) CSI3*-W
DESCRIPTION:Leszno (POL) CSI3*-W  CSIYH1*
URL:https://blog.hippoline.lu/termin/leszno-pol-csi3-w/
CATEGORIES:FEI
END:VEVENT
BEGIN:VEVENT
DTSTART;VALUE=DATE:20151023
DTEND;VALUE=DATE:20151026
DTSTAMP:20260422T112329
CREATED:20141231T130459Z
LAST-MODIFIED:20141231T130459Z
UID:7304570-1445558400-1445817599@blog.hippoline.lu
SUMMARY:Beijing Bird's Nest  (CHN) CSI3* (M
DESCRIPTION:Beijing Bird’s Nest  (CHN) CSI3* (M D)
URL:https://blog.hippoline.lu/termin/beijing-birds-nest-chn-csi3-m/
CATEGORIES:FEI
END:VEVENT
BEGIN:VEVENT
DTSTART;VALUE=DATE:20151023
DTEND;VALUE=DATE:20151026
DTSTAMP:20260422T112329
CREATED:20141231T130459Z
LAST-MODIFIED:20141231T130459Z
UID:7304571-1445558400-1445817599@blog.hippoline.lu
SUMMARY:Lichfield (NZL) CEI1*
DESCRIPTION:Lichfield (NZL) CEI1* 100  CEI1* 80  CEIYJ1* 100  CEIYJ1* 80
URL:https://blog.hippoline.lu/termin/lichfield-nzl-cei1/
CATEGORIES:FEI
END:VEVENT
BEGIN:VEVENT
DTSTART;VALUE=DATE:20151023
DTEND;VALUE=DATE:20151026
DTSTAMP:20260422T112329
CREATED:20141231T130459Z
LAST-MODIFIED:20141231T130459Z
UID:7304572-1445558400-1445817599@blog.hippoline.lu
SUMMARY:Provaglio d'Iseo (ITA) CEI1*
DESCRIPTION:Provaglio d’Iseo (ITA) CEI1* 90  CEI2* 120  CEI3* 160  CEIYJ2* 120
URL:https://blog.hippoline.lu/termin/provaglio-diseo-ita-cei1/
CATEGORIES:FEI
END:VEVENT
BEGIN:VEVENT
DTSTART;VALUE=DATE:20151023
DTEND;VALUE=DATE:20151026
DTSTAMP:20260422T112329
CREATED:20141231T130459Z
LAST-MODIFIED:20141231T130459Z
UID:7304573-1445558400-1445817599@blog.hippoline.lu
SUMMARY:Brigadoon WA (AUS) CSI1*
DESCRIPTION:Brigadoon WA (AUS) CSI1*
URL:https://blog.hippoline.lu/termin/brigadoon-wa-aus-csi1/
CATEGORIES:FEI
END:VEVENT
BEGIN:VEVENT
DTSTART;VALUE=DATE:20151024
DTEND;VALUE=DATE:20151025
DTSTAMP:20260422T112329
CREATED:20141231T130459Z
LAST-MODIFIED:20141231T130459Z
UID:7304577-1445644800-1445731199@blog.hippoline.lu
SUMMARY:Sakhir  Bahrain International Endurance Village (BRN) CEI1*
DESCRIPTION:Sakhir  Bahrain International Endurance Village (BRN) CEI1* 80   CEI2* 120 
URL:https://blog.hippoline.lu/termin/sakhir-bahrain-international-endurance-village-brn-cei1-6/
CATEGORIES:FEI
END:VEVENT
END:VCALENDAR