BEGIN:VCALENDAR
VERSION:2.0
PRODID:-//HIPPOline - ECPv6.15.18//NONSGML v1.0//EN
CALSCALE:GREGORIAN
METHOD:PUBLISH
X-ORIGINAL-URL:https://blog.hippoline.lu
X-WR-CALDESC:Veranstaltungen für HIPPOline
REFRESH-INTERVAL;VALUE=DURATION:PT1H
X-Robots-Tag:noindex
X-PUBLISHED-TTL:PT1H
BEGIN:VTIMEZONE
TZID:Europe/Luxembourg
BEGIN:DAYLIGHT
TZOFFSETFROM:+0100
TZOFFSETTO:+0200
TZNAME:CEST
DTSTART:20140330T010000
END:DAYLIGHT
BEGIN:STANDARD
TZOFFSETFROM:+0200
TZOFFSETTO:+0100
TZNAME:CET
DTSTART:20141026T010000
END:STANDARD
BEGIN:DAYLIGHT
TZOFFSETFROM:+0100
TZOFFSETTO:+0200
TZNAME:CEST
DTSTART:20150329T010000
END:DAYLIGHT
BEGIN:STANDARD
TZOFFSETFROM:+0200
TZOFFSETTO:+0100
TZNAME:CET
DTSTART:20151025T010000
END:STANDARD
BEGIN:DAYLIGHT
TZOFFSETFROM:+0100
TZOFFSETTO:+0200
TZNAME:CEST
DTSTART:20160327T010000
END:DAYLIGHT
BEGIN:STANDARD
TZOFFSETFROM:+0200
TZOFFSETTO:+0100
TZNAME:CET
DTSTART:20161030T010000
END:STANDARD
END:VTIMEZONE
BEGIN:VEVENT
DTSTART;VALUE=DATE:20151013
DTEND;VALUE=DATE:20151019
DTSTAMP:20260423T165355
CREATED:20141231T130454Z
LAST-MODIFIED:20141231T130454Z
UID:7304513-1444694400-1445212799@blog.hippoline.lu
SUMMARY:Vilamoura (POR) CSI1*
DESCRIPTION:Vilamoura (POR) CSI1*  CSI3*  CSIYH1*
URL:https://blog.hippoline.lu/termin/vilamoura-por-csi1-5/
CATEGORIES:FEI
END:VEVENT
BEGIN:VEVENT
DTSTART;VALUE=DATE:20151013
DTEND;VALUE=DATE:20151019
DTSTAMP:20260423T165355
CREATED:20141231T130454Z
LAST-MODIFIED:20141231T130454Z
UID:7304514-1444694400-1445212799@blog.hippoline.lu
SUMMARY:Cagnes-sur-Mer (FRA) CSI1*
DESCRIPTION:Cagnes-sur-Mer (FRA) CSI1*  CSI2*  CSIAm-B  CSICh-A  CSIP  CSIYH1*
URL:https://blog.hippoline.lu/termin/cagnes-sur-mer-fra-csi1-4/
CATEGORIES:FEI
END:VEVENT
BEGIN:VEVENT
DTSTART;VALUE=DATE:20151014
DTEND;VALUE=DATE:20151019
DTSTAMP:20260423T165355
CREATED:20141231T130454Z
LAST-MODIFIED:20141231T130454Z
UID:7304517-1444780800-1445212799@blog.hippoline.lu
SUMMARY:Wiener Neustadt (AUT) CSI2*
DESCRIPTION:Wiener Neustadt (AUT) CSI2*  CSIYH1*
URL:https://blog.hippoline.lu/termin/wiener-neustadt-aut-csi2-3/
CATEGORIES:FEI
END:VEVENT
BEGIN:VEVENT
DTSTART;VALUE=DATE:20151014
DTEND;VALUE=DATE:20151019
DTSTAMP:20260423T165355
CREATED:20141231T130454Z
LAST-MODIFIED:20141231T130454Z
UID:7304518-1444780800-1445212799@blog.hippoline.lu
SUMMARY:Goshen KY (USA) CAI1*-H1
DESCRIPTION:Goshen KY (USA) CAI1*-H1  CAI1*-H2  CAI1*-H4  CAI1*-P1  CAI1*-P2
URL:https://blog.hippoline.lu/termin/goshen-ky-usa-cai1-h1/
CATEGORIES:FEI
END:VEVENT
BEGIN:VEVENT
DTSTART;VALUE=DATE:20151014
DTEND;VALUE=DATE:20151019
DTSTAMP:20260423T165355
CREATED:20141231T130454Z
LAST-MODIFIED:20141231T130454Z
UID:7304515-1444780800-1445212799@blog.hippoline.lu
SUMMARY:Elkton MD (USA) CCI2*
DESCRIPTION:Elkton MD (USA) CCI2*  CCI3*
URL:https://blog.hippoline.lu/termin/elkton-md-usa-cci2/
CATEGORIES:FEI
END:VEVENT
BEGIN:VEVENT
DTSTART;VALUE=DATE:20151014
DTEND;VALUE=DATE:20151019
DTSTAMP:20260423T165355
CREATED:20141231T130454Z
LAST-MODIFIED:20141231T130454Z
UID:7304516-1444780800-1445212799@blog.hippoline.lu
SUMMARY:Del Mar  Fairgrounds CA (USA) CSI4*-W
DESCRIPTION:Del Mar  Fairgrounds CA (USA) CSI4*-W
URL:https://blog.hippoline.lu/termin/del-mar-fairgrounds-ca-usa-csi4-w/
CATEGORIES:FEI
END:VEVENT
BEGIN:VEVENT
DTSTART;VALUE=DATE:20151015
DTEND;VALUE=DATE:20151019
DTSTAMP:20260423T165355
CREATED:20141231T130454Z
LAST-MODIFIED:20141231T130454Z
UID:7304520-1444867200-1445212799@blog.hippoline.lu
SUMMARY:Le Lion d'Angers (FRA) CH-M-YH-CCI1*
DESCRIPTION:Le Lion d’Angers (FRA) CH-M-YH-CCI1*  CH-M-YH-CCI2*
URL:https://blog.hippoline.lu/termin/le-lion-dangers-fra-ch-m-yh-cci1/
CATEGORIES:FEI
END:VEVENT
BEGIN:VEVENT
DTSTART;VALUE=DATE:20151015
DTEND;VALUE=DATE:20151019
DTSTAMP:20260423T165355
CREATED:20141231T130455Z
LAST-MODIFIED:20141231T130455Z
UID:7304527-1444867200-1445212799@blog.hippoline.lu
SUMMARY:Manerbio (ITA) CSI1*
DESCRIPTION:Manerbio (ITA) CSI1*  CSI2*  CSIYH1*
URL:https://blog.hippoline.lu/termin/manerbio-ita-csi1/
CATEGORIES:FEI
END:VEVENT
BEGIN:VEVENT
DTSTART;VALUE=DATE:20151015
DTEND;VALUE=DATE:20151019
DTSTAMP:20260423T165355
CREATED:20141231T130455Z
LAST-MODIFIED:20141231T130455Z
UID:7304529-1444867200-1445212799@blog.hippoline.lu
SUMMARY:Lier  (BEL) CSI2* 
DESCRIPTION:Lier  (BEL) CSI2*   CSIYH1* 
URL:https://blog.hippoline.lu/termin/lier-bel-csi2-7/
CATEGORIES:FEI
END:VEVENT
BEGIN:VEVENT
DTSTART;VALUE=DATE:20151015
DTEND;VALUE=DATE:20151019
DTSTAMP:20260423T165355
CREATED:20141231T130455Z
LAST-MODIFIED:20141231T130455Z
UID:7304530-1444867200-1445212799@blog.hippoline.lu
SUMMARY:El Jadida  (MAR) CSI1* 
DESCRIPTION:El Jadida  (MAR) CSI1*   [CSI3*-W ]
URL:https://blog.hippoline.lu/termin/el-jadida-mar-csi1/
CATEGORIES:FEI
END:VEVENT
BEGIN:VEVENT
DTSTART;VALUE=DATE:20151015
DTEND;VALUE=DATE:20151019
DTSTAMP:20260423T165355
CREATED:20141231T130455Z
LAST-MODIFIED:20141231T130455Z
UID:7304521-1444867200-1445212799@blog.hippoline.lu
SUMMARY:Oslo (NOR) CSI2*
DESCRIPTION:Oslo (NOR) CSI2*  CSI5*-W  CSIAm-B
URL:https://blog.hippoline.lu/termin/oslo-nor-csi2/
CATEGORIES:FEI
END:VEVENT
BEGIN:VEVENT
DTSTART;VALUE=DATE:20151015
DTEND;VALUE=DATE:20151019
DTSTAMP:20260423T165355
CREATED:20141231T130455Z
LAST-MODIFIED:20141231T130455Z
UID:7304522-1444867200-1445212799@blog.hippoline.lu
SUMMARY:Asten (NED) CSI1*
DESCRIPTION:Asten (NED) CSI1*  CSI2*  CSIAm-B  CSIYH1*
URL:https://blog.hippoline.lu/termin/asten-ned-csi1-2/
CATEGORIES:FEI
END:VEVENT
BEGIN:VEVENT
DTSTART;VALUE=DATE:20151015
DTEND;VALUE=DATE:20151019
DTSTAMP:20260423T165355
CREATED:20141231T130455Z
LAST-MODIFIED:20141231T130455Z
UID:7304524-1444867200-1445212799@blog.hippoline.lu
SUMMARY:Goulburn NSW (AUS) CCI1*
DESCRIPTION:Goulburn NSW (AUS) CCI1*  CCI2*  CCI3*  CIC1*  CIC2*  CIC3*
URL:https://blog.hippoline.lu/termin/goulburn-nsw-aus-cci1/
CATEGORIES:FEI
END:VEVENT
BEGIN:VEVENT
DTSTART;VALUE=DATE:20151015
DTEND;VALUE=DATE:20151019
DTSTAMP:20260423T165355
CREATED:20141231T130455Z
LAST-MODIFIED:20141231T130455Z
UID:7304525-1444867200-1445212799@blog.hippoline.lu
SUMMARY:Odense (DEN) CSI1*
DESCRIPTION:Odense (DEN) CSI1*  CSI3*  CDI-W  CDI2*  CDIU25 
URL:https://blog.hippoline.lu/termin/odense-den-csi1-4/
CATEGORIES:FEI
END:VEVENT
BEGIN:VEVENT
DTSTART;VALUE=DATE:20151015
DTEND;VALUE=DATE:20151019
DTSTAMP:20260423T165355
CREATED:20141231T130455Z
LAST-MODIFIED:20141231T130455Z
UID:7304526-1444867200-1445212799@blog.hippoline.lu
SUMMARY:Chevenez (SUI) CSI2*
DESCRIPTION:Chevenez (SUI) CSI2*  CSIAm-A  CSIAm-B  CSIYH1*
URL:https://blog.hippoline.lu/termin/chevenez-sui-csi2/
CATEGORIES:FEI
END:VEVENT
BEGIN:VEVENT
DTSTART;VALUE=DATE:20151016
DTEND;VALUE=DATE:20151019
DTSTAMP:20260423T165355
CREATED:20141231T130455Z
LAST-MODIFIED:20141231T130455Z
UID:7304532-1444953600-1445212799@blog.hippoline.lu
SUMMARY:Lisbon  (POR) CSIV-B 
DESCRIPTION:Lisbon  (POR) CSIV-B 
URL:https://blog.hippoline.lu/termin/lisbon-por-csiv-b/
CATEGORIES:FEI
END:VEVENT
BEGIN:VEVENT
DTSTART;VALUE=DATE:20151016
DTEND;VALUE=DATE:20151019
DTSTAMP:20260423T165355
CREATED:20141231T130456Z
LAST-MODIFIED:20141231T130456Z
UID:7304538-1444953600-1445212799@blog.hippoline.lu
SUMMARY:Orlândia SP (BRA) CSI2*
DESCRIPTION:Orlândia SP (BRA) CSI2*
URL:https://blog.hippoline.lu/termin/orlandia-sp-bra-csi2/
CATEGORIES:FEI
END:VEVENT
BEGIN:VEVENT
DTSTART;VALUE=DATE:20151016
DTEND;VALUE=DATE:20151019
DTSTAMP:20260423T165355
CREATED:20141231T130456Z
LAST-MODIFIED:20141231T130456Z
UID:7304539-1444953600-1445212799@blog.hippoline.lu
SUMMARY:Hawkesbury NSW (AUS) CSI2*-W
DESCRIPTION:Hawkesbury NSW (AUS) CSI2*-W
URL:https://blog.hippoline.lu/termin/hawkesbury-nsw-aus-csi2-w/
CATEGORIES:FEI
END:VEVENT
BEGIN:VEVENT
DTSTART;VALUE=DATE:20151016
DTEND;VALUE=DATE:20151019
DTSTAMP:20260423T165355
CREATED:20141231T130456Z
LAST-MODIFIED:20141231T130456Z
UID:7304540-1444953600-1445212799@blog.hippoline.lu
SUMMARY:Strzegom (POL) CCI1*
DESCRIPTION:Strzegom (POL) CCI1*  CCI2*  CIC1*  CIC2*  CIC3*
URL:https://blog.hippoline.lu/termin/strzegom-pol-cci1-2/
CATEGORIES:FEI
END:VEVENT
BEGIN:VEVENT
DTSTART;VALUE=DATE:20151016
DTEND;VALUE=DATE:20151019
DTSTAMP:20260423T165355
CREATED:20141231T130456Z
LAST-MODIFIED:20141231T130456Z
UID:7304541-1444953600-1445212799@blog.hippoline.lu
SUMMARY:Leszno (POL) CSI3*
DESCRIPTION:Leszno (POL) CSI3*  CSICh-A  CSIYH1*
URL:https://blog.hippoline.lu/termin/leszno-pol-csi3/
CATEGORIES:FEI
END:VEVENT
BEGIN:VEVENT
DTSTART;VALUE=DATE:20151016
DTEND;VALUE=DATE:20151019
DTSTAMP:20260423T165355
CREATED:20141231T130456Z
LAST-MODIFIED:20141231T130456Z
UID:7304533-1444953600-1445212799@blog.hippoline.lu
SUMMARY:Le Mans (FRA) CSI1*
DESCRIPTION:Le Mans (FRA) CSI1*  CSI2*  CSIAm-B  CSICh-A  CSIJ-B  CSIP  CSIYH1*
URL:https://blog.hippoline.lu/termin/le-mans-fra-csi1-5/
CATEGORIES:FEI
END:VEVENT
BEGIN:VEVENT
DTSTART;VALUE=DATE:20151016
DTEND;VALUE=DATE:20151019
DTSTAMP:20260423T165355
CREATED:20141231T130456Z
LAST-MODIFIED:20141231T130456Z
UID:7304534-1444953600-1445212799@blog.hippoline.lu
SUMMARY:Pallare  Savona (ITA) CIC1*
DESCRIPTION:Pallare  Savona (ITA) CIC1*  CIC2*
URL:https://blog.hippoline.lu/termin/pallare-savona-ita-cic1/
CATEGORIES:FEI
END:VEVENT
BEGIN:VEVENT
DTSTART;VALUE=DATE:20151016
DTEND;VALUE=DATE:20151019
DTSTAMP:20260423T165355
CREATED:20141231T130456Z
LAST-MODIFIED:20141231T130456Z
UID:7304536-1444953600-1445212799@blog.hippoline.lu
SUMMARY:Moorsele (BEL) CSICh-A
DESCRIPTION:Moorsele (BEL) CSICh-A  CSIJ-A  CSIP  CSIY-A
URL:https://blog.hippoline.lu/termin/moorsele-bel-csich-a/
CATEGORIES:FEI
END:VEVENT
BEGIN:VEVENT
DTSTART;VALUE=DATE:20151016
DTEND;VALUE=DATE:20151019
DTSTAMP:20260423T165355
CREATED:20141231T130456Z
LAST-MODIFIED:20141231T130456Z
UID:7304537-1444953600-1445212799@blog.hippoline.lu
SUMMARY:Campinas SP (BRA) CEI1*
DESCRIPTION:Campinas SP (BRA) CEI1* 80  CEI2* 120  CEIYJ1* 80  CEIYJ2* 120
URL:https://blog.hippoline.lu/termin/campinas-sp-bra-cei1/
CATEGORIES:FEI
END:VEVENT
BEGIN:VEVENT
DTSTART;VALUE=DATE:20151017
DTEND;VALUE=DATE:20151019
DTSTAMP:20260423T165355
CREATED:20141231T130456Z
LAST-MODIFIED:20141231T130456Z
UID:7304543-1445040000-1445212799@blog.hippoline.lu
SUMMARY:Pirassununga SP (BRA) CIC1*
DESCRIPTION:Pirassununga SP (BRA) CIC1*  CIC2*
URL:https://blog.hippoline.lu/termin/pirassununga-sp-bra-cic1/
CATEGORIES:FEI
END:VEVENT
BEGIN:VEVENT
DTSTART;VALUE=DATE:20151017
DTEND;VALUE=DATE:20151019
DTSTAMP:20260423T165355
CREATED:20141231T130457Z
LAST-MODIFIED:20141231T130457Z
UID:7304544-1445040000-1445212799@blog.hippoline.lu
SUMMARY:Le Pertre (FRA) CEI1*
DESCRIPTION:Le Pertre (FRA) CEI1* 100  CEI2* 130
URL:https://blog.hippoline.lu/termin/le-pertre-fra-cei1/
CATEGORIES:FEI
END:VEVENT
BEGIN:VEVENT
DTSTART;VALUE=DATE:20151017
DTEND;VALUE=DATE:20151019
DTSTAMP:20260423T165355
CREATED:20141231T130457Z
LAST-MODIFIED:20141231T130457Z
UID:7304545-1445040000-1445212799@blog.hippoline.lu
SUMMARY:Cuballing WA (AUS) CIC1*
DESCRIPTION:Cuballing WA (AUS) CIC1*  CIC2*  CIC3*
URL:https://blog.hippoline.lu/termin/cuballing-wa-aus-cic1-2/
CATEGORIES:FEI
END:VEVENT
END:VCALENDAR