BEGIN:VCALENDAR
VERSION:2.0
PRODID:-//HIPPOline - ECPv6.15.18//NONSGML v1.0//EN
CALSCALE:GREGORIAN
METHOD:PUBLISH
X-WR-CALNAME:HIPPOline
X-ORIGINAL-URL:https://blog.hippoline.lu
X-WR-CALDESC:Veranstaltungen für HIPPOline
REFRESH-INTERVAL;VALUE=DURATION:PT1H
X-Robots-Tag:noindex
X-PUBLISHED-TTL:PT1H
BEGIN:VTIMEZONE
TZID:Europe/Luxembourg
BEGIN:DAYLIGHT
TZOFFSETFROM:+0100
TZOFFSETTO:+0200
TZNAME:CEST
DTSTART:20140330T010000
END:DAYLIGHT
BEGIN:STANDARD
TZOFFSETFROM:+0200
TZOFFSETTO:+0100
TZNAME:CET
DTSTART:20141026T010000
END:STANDARD
BEGIN:DAYLIGHT
TZOFFSETFROM:+0100
TZOFFSETTO:+0200
TZNAME:CEST
DTSTART:20150329T010000
END:DAYLIGHT
BEGIN:STANDARD
TZOFFSETFROM:+0200
TZOFFSETTO:+0100
TZNAME:CET
DTSTART:20151025T010000
END:STANDARD
BEGIN:DAYLIGHT
TZOFFSETFROM:+0100
TZOFFSETTO:+0200
TZNAME:CEST
DTSTART:20160327T010000
END:DAYLIGHT
BEGIN:STANDARD
TZOFFSETFROM:+0200
TZOFFSETTO:+0100
TZNAME:CET
DTSTART:20161030T010000
END:STANDARD
END:VTIMEZONE
BEGIN:VEVENT
DTSTART;VALUE=DATE:20151006
DTEND;VALUE=DATE:20151012
DTSTAMP:20260424T090233
CREATED:20141231T130449Z
LAST-MODIFIED:20141231T130449Z
UID:7304485-1444089600-1444607999@blog.hippoline.lu
SUMMARY:Cagnes-sur-Mer (FRA) CSI1*
DESCRIPTION:Cagnes-sur-Mer (FRA) CSI1*  CSI2*  CSIAm-B  CSICh-A  CSIP  CSIYH1*
URL:https://blog.hippoline.lu/termin/cagnes-sur-mer-fra-csi1-3/
CATEGORIES:FEI
END:VEVENT
BEGIN:VEVENT
DTSTART;VALUE=DATE:20151006
DTEND;VALUE=DATE:20151012
DTSTAMP:20260424T090233
CREATED:20141231T130449Z
LAST-MODIFIED:20141231T130449Z
UID:7304484-1444089600-1444607999@blog.hippoline.lu
SUMMARY:Vilamoura (POR) CSI2*
DESCRIPTION:Vilamoura (POR) CSI2*  CSIYH1*
URL:https://blog.hippoline.lu/termin/vilamoura-por-csi2-5/
CATEGORIES:FEI
END:VEVENT
BEGIN:VEVENT
DTSTART;VALUE=DATE:20151007
DTEND;VALUE=DATE:20151012
DTSTAMP:20260424T090233
CREATED:20141231T130449Z
LAST-MODIFIED:20141231T130449Z
UID:7304486-1444176000-1444607999@blog.hippoline.lu
SUMMARY:Birmingham (GBR) CSI3* 
DESCRIPTION:Birmingham (GBR) CSI3* 
URL:https://blog.hippoline.lu/termin/birmingham-gbr-csi3/
CATEGORIES:FEI
END:VEVENT
BEGIN:VEVENT
DTSTART;VALUE=DATE:20151007
DTEND;VALUE=DATE:20151012
DTSTAMP:20260424T090233
CREATED:20141231T130449Z
LAST-MODIFIED:20141231T130449Z
UID:7304487-1444176000-1444607999@blog.hippoline.lu
SUMMARY:Del Mar  Fairgrounds CA (USA) CSI2*
DESCRIPTION:Del Mar  Fairgrounds CA (USA) CSI2*
URL:https://blog.hippoline.lu/termin/del-mar-fairgrounds-ca-usa-csi2/
CATEGORIES:FEI
END:VEVENT
BEGIN:VEVENT
DTSTART;VALUE=DATE:20151007
DTEND;VALUE=DATE:20151012
DTSTAMP:20260424T090233
CREATED:20141231T130449Z
LAST-MODIFIED:20141231T130449Z
UID:7304488-1444176000-1444607999@blog.hippoline.lu
SUMMARY:Minsk  Ratomka (BLR) CDI-W
DESCRIPTION:Minsk  Ratomka (BLR) CDI-W  CDI2*  CDIJ
URL:https://blog.hippoline.lu/termin/minsk-ratomka-blr-cdi-w/
CATEGORIES:FEI
END:VEVENT
BEGIN:VEVENT
DTSTART;VALUE=DATE:20151008
DTEND;VALUE=DATE:20151011
DTSTAMP:20260424T090233
CREATED:20141231T130450Z
LAST-MODIFIED:20141231T130450Z
UID:7304497-1444262400-1444521599@blog.hippoline.lu
SUMMARY:Amman  (JOR) [CSI2*-W ] 
DESCRIPTION:Amman  (JOR) [CSI2*-W ] 
URL:https://blog.hippoline.lu/termin/amman-jor-csi2-w/
CATEGORIES:FEI
END:VEVENT
BEGIN:VEVENT
DTSTART;VALUE=DATE:20151008
DTEND;VALUE=DATE:20151012
DTSTAMP:20260424T090233
CREATED:20141231T130449Z
LAST-MODIFIED:20141231T130449Z
UID:7304489-1444262400-1444607999@blog.hippoline.lu
SUMMARY:Assen (NED) CSI2*
DESCRIPTION:Assen (NED) CSI2*  CSIAm-A  CSIAm-B
URL:https://blog.hippoline.lu/termin/assen-ned-csi2/
CATEGORIES:FEI
END:VEVENT
BEGIN:VEVENT
DTSTART;VALUE=DATE:20151008
DTEND;VALUE=DATE:20151012
DTSTAMP:20260424T090233
CREATED:20141231T130449Z
LAST-MODIFIED:20141231T130449Z
UID:7304490-1444262400-1444607999@blog.hippoline.lu
SUMMARY:Weston Park (GBR) CCI1*
DESCRIPTION:Weston Park (GBR) CCI1*  CCI2*  CCIJ1*
URL:https://blog.hippoline.lu/termin/weston-park-gbr-cci1/
CATEGORIES:FEI
END:VEVENT
BEGIN:VEVENT
DTSTART;VALUE=DATE:20151008
DTEND;VALUE=DATE:20151012
DTSTAMP:20260424T090233
CREATED:20141231T130449Z
LAST-MODIFIED:20141231T130449Z
UID:7304491-1444262400-1444607999@blog.hippoline.lu
SUMMARY:Kiel (GER) CSI3* 
DESCRIPTION:Kiel (GER) CSI3*   CSIYH1*
URL:https://blog.hippoline.lu/termin/kiel-ger-csi3/
CATEGORIES:FEI
END:VEVENT
BEGIN:VEVENT
DTSTART;VALUE=DATE:20151008
DTEND;VALUE=DATE:20151012
DTSTAMP:20260424T090233
CREATED:20141231T130450Z
LAST-MODIFIED:20141231T130450Z
UID:7304493-1444262400-1444607999@blog.hippoline.lu
SUMMARY:Biarritz (FRA) CDI3*
DESCRIPTION:Biarritz (FRA) CDI3*  CDIJ  CDIP  CDIU25  CDIY  CDIYH
URL:https://blog.hippoline.lu/termin/biarritz-fra-cdi3-2/
CATEGORIES:FEI
END:VEVENT
BEGIN:VEVENT
DTSTART;VALUE=DATE:20151008
DTEND;VALUE=DATE:20151012
DTSTAMP:20260424T090233
CREATED:20141231T130450Z
LAST-MODIFIED:20141231T130450Z
UID:7304494-1444262400-1444607999@blog.hippoline.lu
SUMMARY:Odense (DEN) CSI1* 
DESCRIPTION:Odense (DEN) CSI1*   CSIJ-A  CSIP  CSIY-A
URL:https://blog.hippoline.lu/termin/odense-den-csi1-3/
CATEGORIES:FEI
END:VEVENT
BEGIN:VEVENT
DTSTART;VALUE=DATE:20151008
DTEND;VALUE=DATE:20151012
DTSTAMP:20260424T090233
CREATED:20141231T130450Z
LAST-MODIFIED:20141231T130450Z
UID:7304495-1444262400-1444607999@blog.hippoline.lu
SUMMARY:Dunkerque (FRA) CSI1*
DESCRIPTION:Dunkerque (FRA) CSI1*  CSI2*
URL:https://blog.hippoline.lu/termin/dunkerque-fra-csi1/
CATEGORIES:FEI
END:VEVENT
BEGIN:VEVENT
DTSTART;VALUE=DATE:20151008
DTEND;VALUE=DATE:20151012
DTSTAMP:20260424T090233
CREATED:20141231T130450Z
LAST-MODIFIED:20141231T130450Z
UID:7304496-1444262400-1444607999@blog.hippoline.lu
SUMMARY:Chevenez (SUI) CSIJ-A
DESCRIPTION:Chevenez (SUI) CSIJ-A  CSIOCh  CSIOP  CSIU25-A  CSIY-A
URL:https://blog.hippoline.lu/termin/chevenez-sui-csij-a/
CATEGORIES:FEI
END:VEVENT
BEGIN:VEVENT
DTSTART;VALUE=DATE:20151008
DTEND;VALUE=DATE:20151012
DTSTAMP:20260424T090233
CREATED:20141231T130450Z
LAST-MODIFIED:20141231T130450Z
UID:7304498-1444262400-1444607999@blog.hippoline.lu
SUMMARY:Rabat (A D) (MAR) CSI1* 
DESCRIPTION:Rabat (A D) (MAR) CSI1*   [CSI3*-W ] 
URL:https://blog.hippoline.lu/termin/rabat-a-d-mar-csi1/
CATEGORIES:FEI
END:VEVENT
BEGIN:VEVENT
DTSTART;VALUE=DATE:20151008
DTEND;VALUE=DATE:20151012
DTSTAMP:20260424T090233
CREATED:20141231T130450Z
LAST-MODIFIED:20141231T130450Z
UID:7304492-1444262400-1444607999@blog.hippoline.lu
SUMMARY:Boekelo (NED) CCI3*
DESCRIPTION:Boekelo (NED) CCI3*  [CCIO3*-NC]
URL:https://blog.hippoline.lu/termin/boekelo-ned-cci3/
CATEGORIES:FEI
END:VEVENT
END:VCALENDAR