BEGIN:VCALENDAR
VERSION:2.0
PRODID:-//HIPPOline - ECPv6.15.18//NONSGML v1.0//EN
CALSCALE:GREGORIAN
METHOD:PUBLISH
X-WR-CALNAME:HIPPOline
X-ORIGINAL-URL:https://blog.hippoline.lu
X-WR-CALDESC:Veranstaltungen für HIPPOline
REFRESH-INTERVAL;VALUE=DURATION:PT1H
X-Robots-Tag:noindex
X-PUBLISHED-TTL:PT1H
BEGIN:VTIMEZONE
TZID:Europe/Luxembourg
BEGIN:DAYLIGHT
TZOFFSETFROM:+0100
TZOFFSETTO:+0200
TZNAME:CEST
DTSTART:20140330T010000
END:DAYLIGHT
BEGIN:STANDARD
TZOFFSETFROM:+0200
TZOFFSETTO:+0100
TZNAME:CET
DTSTART:20141026T010000
END:STANDARD
BEGIN:DAYLIGHT
TZOFFSETFROM:+0100
TZOFFSETTO:+0200
TZNAME:CEST
DTSTART:20150329T010000
END:DAYLIGHT
BEGIN:STANDARD
TZOFFSETFROM:+0200
TZOFFSETTO:+0100
TZNAME:CET
DTSTART:20151025T010000
END:STANDARD
BEGIN:DAYLIGHT
TZOFFSETFROM:+0100
TZOFFSETTO:+0200
TZNAME:CEST
DTSTART:20160327T010000
END:DAYLIGHT
BEGIN:STANDARD
TZOFFSETFROM:+0200
TZOFFSETTO:+0100
TZNAME:CET
DTSTART:20161030T010000
END:STANDARD
END:VTIMEZONE
BEGIN:VEVENT
DTSTART;VALUE=DATE:20151004
DTEND;VALUE=DATE:20151008
DTSTAMP:20260424T203407
CREATED:20141231T130449Z
LAST-MODIFIED:20141231T130449Z
UID:7304483-1443916800-1444262399@blog.hippoline.lu
SUMMARY:Beijing  Chaoyang Park  (CHN) [CSI2*-W ]
DESCRIPTION:Beijing  Chaoyang Park  (CHN) [CSI2*-W ]
URL:https://blog.hippoline.lu/termin/beijing-chaoyang-park-chn-csi2-w-2/
CATEGORIES:FEI
END:VEVENT
END:VCALENDAR