BEGIN:VCALENDAR
VERSION:2.0
PRODID:-//HIPPOline - ECPv6.15.18//NONSGML v1.0//EN
CALSCALE:GREGORIAN
METHOD:PUBLISH
X-WR-CALNAME:HIPPOline
X-ORIGINAL-URL:https://blog.hippoline.lu
X-WR-CALDESC:Veranstaltungen für HIPPOline
REFRESH-INTERVAL;VALUE=DURATION:PT1H
X-Robots-Tag:noindex
X-PUBLISHED-TTL:PT1H
BEGIN:VTIMEZONE
TZID:Europe/Luxembourg
BEGIN:DAYLIGHT
TZOFFSETFROM:+0100
TZOFFSETTO:+0200
TZNAME:CEST
DTSTART:20140330T010000
END:DAYLIGHT
BEGIN:STANDARD
TZOFFSETFROM:+0200
TZOFFSETTO:+0100
TZNAME:CET
DTSTART:20141026T010000
END:STANDARD
BEGIN:DAYLIGHT
TZOFFSETFROM:+0100
TZOFFSETTO:+0200
TZNAME:CEST
DTSTART:20150329T010000
END:DAYLIGHT
BEGIN:STANDARD
TZOFFSETFROM:+0200
TZOFFSETTO:+0100
TZNAME:CET
DTSTART:20151025T010000
END:STANDARD
BEGIN:DAYLIGHT
TZOFFSETFROM:+0100
TZOFFSETTO:+0200
TZNAME:CEST
DTSTART:20160327T010000
END:DAYLIGHT
BEGIN:STANDARD
TZOFFSETFROM:+0200
TZOFFSETTO:+0100
TZNAME:CET
DTSTART:20161030T010000
END:STANDARD
END:VTIMEZONE
BEGIN:VEVENT
DTSTART;VALUE=DATE:20150929
DTEND;VALUE=DATE:20151005
DTSTAMP:20260424T092355
CREATED:20141231T130447Z
LAST-MODIFIED:20141231T130447Z
UID:7304460-1443484800-1444003199@blog.hippoline.lu
SUMMARY:Devon PA  (USA) CDI-W 
DESCRIPTION:Devon PA  (USA) CDI-W   CDI3*   CDIJ   CDIU25   CDIY 
URL:https://blog.hippoline.lu/termin/devon-pa-usa-cdi-w/
CATEGORIES:FEI
END:VEVENT
BEGIN:VEVENT
DTSTART;VALUE=DATE:20150929
DTEND;VALUE=DATE:20151005
DTSTAMP:20260424T092355
CREATED:20141231T130447Z
LAST-MODIFIED:20141231T130447Z
UID:7304461-1443484800-1444003199@blog.hippoline.lu
SUMMARY:Vilamoura (POR) CSI1*
DESCRIPTION:Vilamoura (POR) CSI1*  CSI3*  CSIYH1*
URL:https://blog.hippoline.lu/termin/vilamoura-por-csi1-4/
CATEGORIES:FEI
END:VEVENT
BEGIN:VEVENT
DTSTART;VALUE=DATE:20150930
DTEND;VALUE=DATE:20151005
DTSTAMP:20260424T092355
CREATED:20141231T130447Z
LAST-MODIFIED:20141231T130447Z
UID:7304462-1443571200-1444003199@blog.hippoline.lu
SUMMARY:Lignières (FRA) CCI1*
DESCRIPTION:Lignières (FRA) CCI1*  CCI2*  CCI3*  CIC1*
URL:https://blog.hippoline.lu/termin/lignieres-fra-cci1/
CATEGORIES:FEI
END:VEVENT
BEGIN:VEVENT
DTSTART;VALUE=DATE:20150930
DTEND;VALUE=DATE:20151005
DTSTAMP:20260424T092355
CREATED:20141231T130447Z
LAST-MODIFIED:20141231T130447Z
UID:7304463-1443571200-1444003199@blog.hippoline.lu
SUMMARY:Pontedera (ITA) CSI1*
DESCRIPTION:Pontedera (ITA) CSI1*  CSI2*  CSI3*  CSIYH1*
URL:https://blog.hippoline.lu/termin/pontedera-ita-csi1/
CATEGORIES:FEI
END:VEVENT
BEGIN:VEVENT
DTSTART;VALUE=DATE:20151001
DTEND;VALUE=DATE:20151004
DTSTAMP:20260424T092355
CREATED:20141231T130447Z
LAST-MODIFIED:20141231T130447Z
UID:7304465-1443657600-1443916799@blog.hippoline.lu
SUMMARY:Mostaganem (ALG) [CSI1*-W]
DESCRIPTION:Mostaganem (ALG) [CSI1*-W]
URL:https://blog.hippoline.lu/termin/mostaganem-alg-csi1-w/
CATEGORIES:FEI
END:VEVENT
BEGIN:VEVENT
DTSTART;VALUE=DATE:20151001
DTEND;VALUE=DATE:20151005
DTSTAMP:20260424T092355
CREATED:20141231T130447Z
LAST-MODIFIED:20141231T130447Z
UID:7304464-1443657600-1444003199@blog.hippoline.lu
SUMMARY:Lummen (BEL) CSI1*
DESCRIPTION:Lummen (BEL) CSI1*  CSI3*  CSIYH1*
URL:https://blog.hippoline.lu/termin/lummen-bel-csi1-6/
CATEGORIES:FEI
END:VEVENT
BEGIN:VEVENT
DTSTART;VALUE=DATE:20151001
DTEND;VALUE=DATE:20151005
DTSTAMP:20260424T092355
CREATED:20141231T130447Z
LAST-MODIFIED:20141231T130447Z
UID:7304466-1443657600-1444003199@blog.hippoline.lu
SUMMARY:Los Angeles CA (USA) CSI2*
DESCRIPTION:Los Angeles CA (USA) CSI2*  CSI5*
URL:https://blog.hippoline.lu/termin/los-angeles-ca-usa-csi2/
CATEGORIES:FEI
END:VEVENT
BEGIN:VEVENT
DTSTART;VALUE=DATE:20151001
DTEND;VALUE=DATE:20151005
DTSTAMP:20260424T092355
CREATED:20141231T130447Z
LAST-MODIFIED:20141231T130447Z
UID:7304467-1443657600-1444003199@blog.hippoline.lu
SUMMARY:Pöttmes (GER) CSI2*
DESCRIPTION:Pöttmes (GER) CSI2*
URL:https://blog.hippoline.lu/termin/poettmes-ger-csi2/
CATEGORIES:FEI
END:VEVENT
BEGIN:VEVENT
DTSTART;VALUE=DATE:20151001
DTEND;VALUE=DATE:20151005
DTSTAMP:20260424T092355
CREATED:20141231T130448Z
LAST-MODIFIED:20141231T130448Z
UID:7304468-1443657600-1444003199@blog.hippoline.lu
SUMMARY:Wiener Neustadt  Arena Nova (AUT) CSI3*
DESCRIPTION:Wiener Neustadt  Arena Nova (AUT) CSI3*  CSIAm-A   CSIYH1*
URL:https://blog.hippoline.lu/termin/wiener-neustadt-arena-nova-aut-csi3/
CATEGORIES:FEI
END:VEVENT
BEGIN:VEVENT
DTSTART;VALUE=DATE:20151001
DTEND;VALUE=DATE:20151005
DTSTAMP:20260424T092355
CREATED:20141231T130448Z
LAST-MODIFIED:20141231T130448Z
UID:7304469-1443657600-1444003199@blog.hippoline.lu
SUMMARY:Lexington KY (USA) CAI2*-H1
DESCRIPTION:Lexington KY (USA) CAI2*-H1  CAI2*-H2  CAI2*-H4  CAI2*-P1  CAI2*-P2
URL:https://blog.hippoline.lu/termin/lexington-ky-usa-cai2-h1/
CATEGORIES:FEI
END:VEVENT
BEGIN:VEVENT
DTSTART;VALUE=DATE:20151001
DTEND;VALUE=DATE:20151005
DTSTAMP:20260424T092355
CREATED:20141231T130448Z
LAST-MODIFIED:20141231T130448Z
UID:7304470-1443657600-1444003199@blog.hippoline.lu
SUMMARY:Mariënheem (NED) CSI1*
DESCRIPTION:Mariënheem (NED) CSI1*  CSI2*
URL:https://blog.hippoline.lu/termin/marienheem-ned-csi1/
CATEGORIES:FEI
END:VEVENT
BEGIN:VEVENT
DTSTART;VALUE=DATE:20151001
DTEND;VALUE=DATE:20151005
DTSTAMP:20260424T092355
CREATED:20141231T130448Z
LAST-MODIFIED:20141231T130448Z
UID:7304471-1443657600-1444003199@blog.hippoline.lu
SUMMARY:Osberton (GBR) CCI1*
DESCRIPTION:Osberton (GBR) CCI1*  CCI2*  CICYH1*  CICYH2*
URL:https://blog.hippoline.lu/termin/osberton-gbr-cci1/
CATEGORIES:FEI
END:VEVENT
BEGIN:VEVENT
DTSTART;VALUE=DATE:20151002
DTEND;VALUE=DATE:20151005
DTSTAMP:20260424T092355
CREATED:20141231T130448Z
LAST-MODIFIED:20141231T130448Z
UID:7304472-1443744000-1444003199@blog.hippoline.lu
SUMMARY:Tallinn (EST) CSI2*-W
DESCRIPTION:Tallinn (EST) CSI2*-W  CSIY-A  CSIYH1*  CDI-W
URL:https://blog.hippoline.lu/termin/tallinn-est-csi2-w/
CATEGORIES:FEI
END:VEVENT
BEGIN:VEVENT
DTSTART;VALUE=DATE:20151002
DTEND;VALUE=DATE:20151005
DTSTAMP:20260424T092355
CREATED:20141231T130448Z
LAST-MODIFIED:20141231T130448Z
UID:7304473-1443744000-1444003199@blog.hippoline.lu
SUMMARY:Sopot (POL) CCI2*
DESCRIPTION:Sopot (POL) CCI2*  CCI3*  CIC1*
URL:https://blog.hippoline.lu/termin/sopot-pol-cci2/
CATEGORIES:FEI
END:VEVENT
BEGIN:VEVENT
DTSTART;VALUE=DATE:20151002
DTEND;VALUE=DATE:20151005
DTSTAMP:20260424T092355
CREATED:20141231T130448Z
LAST-MODIFIED:20141231T130448Z
UID:7304474-1443744000-1444003199@blog.hippoline.lu
SUMMARY:Arezzo (ITA) CIC1*
DESCRIPTION:Arezzo (ITA) CIC1*
URL:https://blog.hippoline.lu/termin/arezzo-ita-cic1/
CATEGORIES:FEI
END:VEVENT
BEGIN:VEVENT
DTSTART;VALUE=DATE:20151002
DTEND;VALUE=DATE:20151005
DTSTAMP:20260424T092355
CREATED:20141231T130448Z
LAST-MODIFIED:20141231T130448Z
UID:7304475-1443744000-1444003199@blog.hippoline.lu
SUMMARY:Strazeele (FRA) CSI1*
DESCRIPTION:Strazeele (FRA) CSI1*  CSI2*
URL:https://blog.hippoline.lu/termin/strazeele-fra-csi1-2/
CATEGORIES:FEI
END:VEVENT
BEGIN:VEVENT
DTSTART;VALUE=DATE:20151002
DTEND;VALUE=DATE:20151005
DTSTAMP:20260424T092355
CREATED:20141231T130448Z
LAST-MODIFIED:20141231T130448Z
UID:7304476-1443744000-1444003199@blog.hippoline.lu
SUMMARY:Trinidad (URU) CEI1*
DESCRIPTION:Trinidad (URU) CEI1* 80  CEI2* 120  CEI3* 160  CEIYJ1* 80  CEIYJ2* 120  CEIYJ3* 160
URL:https://blog.hippoline.lu/termin/trinidad-uru-cei1-4/
CATEGORIES:FEI
END:VEVENT
BEGIN:VEVENT
DTSTART;VALUE=DATE:20151002
DTEND;VALUE=DATE:20151005
DTSTAMP:20260424T092355
CREATED:20141231T130448Z
LAST-MODIFIED:20141231T130448Z
UID:7304477-1443744000-1444003199@blog.hippoline.lu
SUMMARY:Woodside CA (USA) CIC1*
DESCRIPTION:Woodside CA (USA) CIC1*  CIC2*  CIC3*
URL:https://blog.hippoline.lu/termin/woodside-ca-usa-cic1/
CATEGORIES:FEI
END:VEVENT
BEGIN:VEVENT
DTSTART;VALUE=DATE:20151002
DTEND;VALUE=DATE:20151005
DTSTAMP:20260424T092355
CREATED:20141231T130448Z
LAST-MODIFIED:20141231T130448Z
UID:7304478-1443744000-1444003199@blog.hippoline.lu
SUMMARY:Leesburg VA (USA) CIC1*
DESCRIPTION:Leesburg VA (USA) CIC1*  CIC2*  CIC3*
URL:https://blog.hippoline.lu/termin/leesburg-va-usa-cic1/
CATEGORIES:FEI
END:VEVENT
BEGIN:VEVENT
DTSTART;VALUE=DATE:20151002
DTEND;VALUE=DATE:20151005
DTSTAMP:20260424T092355
CREATED:20141231T130448Z
LAST-MODIFIED:20141231T130448Z
UID:7304479-1443744000-1444003199@blog.hippoline.lu
SUMMARY:Tetouan  (MAR) CSI1* 
DESCRIPTION:Tetouan  (MAR) CSI1*   [CSI3*-W ]
URL:https://blog.hippoline.lu/termin/tetouan-mar-csi1/
CATEGORIES:FEI
END:VEVENT
END:VCALENDAR