BEGIN:VCALENDAR
VERSION:2.0
PRODID:-//HIPPOline - ECPv6.15.18//NONSGML v1.0//EN
CALSCALE:GREGORIAN
METHOD:PUBLISH
X-WR-CALNAME:HIPPOline
X-ORIGINAL-URL:https://blog.hippoline.lu
X-WR-CALDESC:Veranstaltungen für HIPPOline
REFRESH-INTERVAL;VALUE=DURATION:PT1H
X-Robots-Tag:noindex
X-PUBLISHED-TTL:PT1H
BEGIN:VTIMEZONE
TZID:Europe/Luxembourg
BEGIN:DAYLIGHT
TZOFFSETFROM:+0100
TZOFFSETTO:+0200
TZNAME:CEST
DTSTART:20140330T010000
END:DAYLIGHT
BEGIN:STANDARD
TZOFFSETFROM:+0200
TZOFFSETTO:+0100
TZNAME:CET
DTSTART:20141026T010000
END:STANDARD
BEGIN:DAYLIGHT
TZOFFSETFROM:+0100
TZOFFSETTO:+0200
TZNAME:CEST
DTSTART:20150329T010000
END:DAYLIGHT
BEGIN:STANDARD
TZOFFSETFROM:+0200
TZOFFSETTO:+0100
TZNAME:CET
DTSTART:20151025T010000
END:STANDARD
BEGIN:DAYLIGHT
TZOFFSETFROM:+0100
TZOFFSETTO:+0200
TZNAME:CEST
DTSTART:20160327T010000
END:DAYLIGHT
BEGIN:STANDARD
TZOFFSETFROM:+0200
TZOFFSETTO:+0100
TZNAME:CET
DTSTART:20161030T010000
END:STANDARD
END:VTIMEZONE
BEGIN:VEVENT
DTSTART;VALUE=DATE:20150922
DTEND;VALUE=DATE:20150928
DTSTAMP:20260426T031155
CREATED:20141231T130444Z
LAST-MODIFIED:20141231T130444Z
UID:7304429-1442880000-1443398399@blog.hippoline.lu
SUMMARY:Rancho Murieta CA (USA) CSI3*-W
DESCRIPTION:Rancho Murieta CA (USA) CSI3*-W
URL:https://blog.hippoline.lu/termin/rancho-murieta-ca-usa-csi3-w/
CATEGORIES:FEI
END:VEVENT
BEGIN:VEVENT
DTSTART;VALUE=DATE:20150923
DTEND;VALUE=DATE:20150928
DTSTAMP:20260426T031155
CREATED:20141231T130444Z
LAST-MODIFIED:20141231T130444Z
UID:7304431-1442966400-1443398399@blog.hippoline.lu
SUMMARY:Minsk  Ratomka (BLR) CCI1*
DESCRIPTION:Minsk  Ratomka (BLR) CCI1*  CCI3*  CIC2*  CIC3*
URL:https://blog.hippoline.lu/termin/minsk-ratomka-blr-cci1-2/
CATEGORIES:FEI
END:VEVENT
BEGIN:VEVENT
DTSTART;VALUE=DATE:20150923
DTEND;VALUE=DATE:20150928
DTSTAMP:20260426T031155
CREATED:20141231T130445Z
LAST-MODIFIED:20141231T130445Z
UID:7304432-1442966400-1443398399@blog.hippoline.lu
SUMMARY:Caledon ON (CAN) CSI2*
DESCRIPTION:Caledon ON (CAN) CSI2*
URL:https://blog.hippoline.lu/termin/caledon-on-can-csi2-3/
CATEGORIES:FEI
END:VEVENT
BEGIN:VEVENT
DTSTART;VALUE=DATE:20150924
DTEND;VALUE=DATE:20150928
DTSTAMP:20260426T031155
CREATED:20141231T130445Z
LAST-MODIFIED:20141231T130445Z
UID:7304441-1443052800-1443398399@blog.hippoline.lu
SUMMARY:Gorla Minore (ITA) CSI1*
DESCRIPTION:Gorla Minore (ITA) CSI1*  CSI2*  CSIYH1*
URL:https://blog.hippoline.lu/termin/gorla-minore-ita-csi1-7/
CATEGORIES:FEI
END:VEVENT
BEGIN:VEVENT
DTSTART;VALUE=DATE:20150924
DTEND;VALUE=DATE:20150928
DTSTAMP:20260426T031155
CREATED:20141231T130445Z
LAST-MODIFIED:20141231T130445Z
UID:7304433-1443052800-1443398399@blog.hippoline.lu
SUMMARY:Damme-Neuenwalde (GER) CSI2*
DESCRIPTION:Damme-Neuenwalde (GER) CSI2*  CSICh-A  CSIP  CSIYH1*
URL:https://blog.hippoline.lu/termin/damme-neuenwalde-ger-csi2/
CATEGORIES:FEI
END:VEVENT
BEGIN:VEVENT
DTSTART;VALUE=DATE:20150924
DTEND;VALUE=DATE:20150928
DTSTAMP:20260426T031155
CREATED:20141231T130445Z
LAST-MODIFIED:20141231T130445Z
UID:7304442-1443052800-1443398399@blog.hippoline.lu
SUMMARY:Campo de Mayo BA (ARG) CCI1*
DESCRIPTION:Campo de Mayo BA (ARG) CCI1*  CCI2*  CIC2*  CIC3*
URL:https://blog.hippoline.lu/termin/campo-de-mayo-ba-arg-cci1-5/
CATEGORIES:FEI
END:VEVENT
BEGIN:VEVENT
DTSTART;VALUE=DATE:20150924
DTEND;VALUE=DATE:20150928
DTSTAMP:20260426T031155
CREATED:20141231T130445Z
LAST-MODIFIED:20141231T130445Z
UID:7304434-1443052800-1443398399@blog.hippoline.lu
SUMMARY:Barcelona (ESP) CSIO5*-NC
DESCRIPTION:Barcelona (ESP) CSIO5*-NC Final
URL:https://blog.hippoline.lu/termin/barcelona-esp-csio5-nc/
CATEGORIES:FEI
END:VEVENT
BEGIN:VEVENT
DTSTART;VALUE=DATE:20150924
DTEND;VALUE=DATE:20150928
DTSTAMP:20260426T031155
CREATED:20141231T130445Z
LAST-MODIFIED:20141231T130445Z
UID:7304443-1443052800-1443398399@blog.hippoline.lu
SUMMARY:Tandur QLD  (AUS) CIC1* 
DESCRIPTION:Tandur QLD  (AUS) CIC1*   CIC2*   CIC3* 
URL:https://blog.hippoline.lu/termin/tandur-qld-aus-cic1/
CATEGORIES:FEI
END:VEVENT
BEGIN:VEVENT
DTSTART;VALUE=DATE:20150924
DTEND;VALUE=DATE:20150928
DTSTAMP:20260426T031155
CREATED:20141231T130445Z
LAST-MODIFIED:20141231T130445Z
UID:7304436-1443052800-1443398399@blog.hippoline.lu
SUMMARY:Ballindenisk (IRL) CCI1*
DESCRIPTION:Ballindenisk (IRL) CCI1*  CCI2*  CCI3*  CCIJ1*  CCIP1*  CIC1*  CIC2*  CIC3*
URL:https://blog.hippoline.lu/termin/ballindenisk-irl-cci1-2/
CATEGORIES:FEI
END:VEVENT
BEGIN:VEVENT
DTSTART;VALUE=DATE:20150924
DTEND;VALUE=DATE:20150928
DTSTAMP:20260426T031155
CREATED:20141231T130445Z
LAST-MODIFIED:20141231T130445Z
UID:7304437-1443052800-1443398399@blog.hippoline.lu
SUMMARY:Vilamoura (POR) CSI2*
DESCRIPTION:Vilamoura (POR) CSI2*
URL:https://blog.hippoline.lu/termin/vilamoura-por-csi2-4/
CATEGORIES:FEI
END:VEVENT
BEGIN:VEVENT
DTSTART;VALUE=DATE:20150924
DTEND;VALUE=DATE:20150928
DTSTAMP:20260426T031155
CREATED:20141231T130445Z
LAST-MODIFIED:20141231T130445Z
UID:7304438-1443052800-1443398399@blog.hippoline.lu
SUMMARY:Lummen (BEL) CSI1*
DESCRIPTION:Lummen (BEL) CSI1*  CSI3*  CSIYH1*
URL:https://blog.hippoline.lu/termin/lummen-bel-csi1-5/
CATEGORIES:FEI
END:VEVENT
BEGIN:VEVENT
DTSTART;VALUE=DATE:20150924
DTEND;VALUE=DATE:20150928
DTSTAMP:20260426T031155
CREATED:20141231T130445Z
LAST-MODIFIED:20141231T130445Z
UID:7304439-1443052800-1443398399@blog.hippoline.lu
SUMMARY:Waregem (BEL) CIC1*
DESCRIPTION:Waregem (BEL) CIC1*  CIC2*  [CICO3*-NC ]
URL:https://blog.hippoline.lu/termin/waregem-bel-cic1/
CATEGORIES:FEI
END:VEVENT
BEGIN:VEVENT
DTSTART;VALUE=DATE:20150924
DTEND;VALUE=DATE:20150928
DTSTAMP:20260426T031155
CREATED:20141231T130445Z
LAST-MODIFIED:20141231T130445Z
UID:7304440-1443052800-1443398399@blog.hippoline.lu
SUMMARY:Saumur (FRA) CDI3*
DESCRIPTION:Saumur (FRA) CDI3*
URL:https://blog.hippoline.lu/termin/saumur-fra-cdi3-2/
CATEGORIES:FEI
END:VEVENT
BEGIN:VEVENT
DTSTART;VALUE=DATE:20150924
DTEND;VALUE=DATE:20150928
DTSTAMP:20260426T031155
CREATED:20141231T130446Z
LAST-MODIFIED:20141231T130446Z
UID:7304445-1443052800-1443398399@blog.hippoline.lu
SUMMARY:Biblis  (GER) CSI2* 
DESCRIPTION:Biblis  (GER) CSI2*   CSIAm-B   CSIYH1* 
URL:https://blog.hippoline.lu/termin/biblis-ger-csi2/
CATEGORIES:FEI
END:VEVENT
BEGIN:VEVENT
DTSTART;VALUE=DATE:20150925
DTEND;VALUE=DATE:20150928
DTSTAMP:20260426T031155
CREATED:20141231T130446Z
LAST-MODIFIED:20141231T130446Z
UID:7304446-1443139200-1443398399@blog.hippoline.lu
SUMMARY:Bonheiden  (BEL) CSI2* 
DESCRIPTION:Bonheiden  (BEL) CSI2*   CSIYH1* 
URL:https://blog.hippoline.lu/termin/bonheiden-bel-csi2-4/
CATEGORIES:FEI
END:VEVENT
BEGIN:VEVENT
DTSTART;VALUE=DATE:20150925
DTEND;VALUE=DATE:20150928
DTSTAMP:20260426T031155
CREATED:20141231T130446Z
LAST-MODIFIED:20141231T130446Z
UID:7304447-1443139200-1443398399@blog.hippoline.lu
SUMMARY:Deurne (NED) CAI2*-H1
DESCRIPTION:Deurne (NED) CAI2*-H1  CAI2*-H2  CAI2*-H4  CAI2*-P1  CAI2*-P2  CAI2*-P4
URL:https://blog.hippoline.lu/termin/deurne-ned-cai2-h1/
CATEGORIES:FEI
END:VEVENT
BEGIN:VEVENT
DTSTART;VALUE=DATE:20150925
DTEND;VALUE=DATE:20150928
DTSTAMP:20260426T031155
CREATED:20141231T130446Z
LAST-MODIFIED:20141231T130446Z
UID:7304448-1443139200-1443398399@blog.hippoline.lu
SUMMARY:Chateaubriant (FRA) CCI1*
DESCRIPTION:Chateaubriant (FRA) CCI1*  CIC2*
URL:https://blog.hippoline.lu/termin/chateaubriant-fra-cci1/
CATEGORIES:FEI
END:VEVENT
BEGIN:VEVENT
DTSTART;VALUE=DATE:20150925
DTEND;VALUE=DATE:20150928
DTSTAMP:20260426T031155
CREATED:20141231T130446Z
LAST-MODIFIED:20141231T130446Z
UID:7304450-1443139200-1443398399@blog.hippoline.lu
SUMMARY:Budapest-Fót (HUN) CDI3*
DESCRIPTION:Budapest-Fót (HUN) CDI3*  CDIJ  CDIP  CDIY
URL:https://blog.hippoline.lu/termin/budapest-fot-hun-cdi3/
CATEGORIES:FEI
END:VEVENT
BEGIN:VEVENT
DTSTART;VALUE=DATE:20150926
DTEND;VALUE=DATE:20150928
DTSTAMP:20260426T031155
CREATED:20141231T130446Z
LAST-MODIFIED:20141231T130446Z
UID:7304451-1443225600-1443398399@blog.hippoline.lu
SUMMARY:Ardingly (GBR) CIC1*
DESCRIPTION:Ardingly (GBR) CIC1*  CIC2*
URL:https://blog.hippoline.lu/termin/ardingly-gbr-cic1/
CATEGORIES:FEI
END:VEVENT
BEGIN:VEVENT
DTSTART;VALUE=DATE:20150926
DTEND;VALUE=DATE:20150928
DTSTAMP:20260426T031155
CREATED:20141231T130446Z
LAST-MODIFIED:20141231T130446Z
UID:7304452-1443225600-1443398399@blog.hippoline.lu
SUMMARY:Aske  Richmond (GBR) CIC1*
DESCRIPTION:Aske  Richmond (GBR) CIC1*
URL:https://blog.hippoline.lu/termin/aske-richmond-gbr-cic1/
CATEGORIES:FEI
END:VEVENT
BEGIN:VEVENT
DTSTART;VALUE=DATE:20150926
DTEND;VALUE=DATE:20150928
DTSTAMP:20260426T031155
CREATED:20141231T130446Z
LAST-MODIFIED:20141231T130446Z
UID:7304453-1443225600-1443398399@blog.hippoline.lu
SUMMARY:New Albany OH  (USA) CSI2* 
DESCRIPTION:New Albany OH  (USA) CSI2* 
URL:https://blog.hippoline.lu/termin/new-albany-oh-usa-csi2/
CATEGORIES:FEI
END:VEVENT
BEGIN:VEVENT
DTSTART;VALUE=DATE:20150926
DTEND;VALUE=DATE:20150928
DTSTAMP:20260426T031155
CREATED:20141231T130446Z
LAST-MODIFIED:20141231T130446Z
UID:7304454-1443225600-1443398399@blog.hippoline.lu
SUMMARY:Valeggio sul Mincio (ITA) CH-M-YH-E
DESCRIPTION:Valeggio sul Mincio (ITA) CH-M-YH-E 130 7 YO
URL:https://blog.hippoline.lu/termin/valeggio-sul-mincio-ita-ch-m-yh-e/
CATEGORIES:FEI
END:VEVENT
BEGIN:VEVENT
DTSTART;VALUE=DATE:20150926
DTEND;VALUE=DATE:20150928
DTSTAMP:20260426T031155
CREATED:20141231T130446Z
LAST-MODIFIED:20141231T130446Z
UID:7304455-1443225600-1443398399@blog.hippoline.lu
SUMMARY:Plourivo (FRA) CEI1*
DESCRIPTION:Plourivo (FRA) CEI1* 90
URL:https://blog.hippoline.lu/termin/plourivo-fra-cei1/
CATEGORIES:FEI
END:VEVENT
BEGIN:VEVENT
DTSTART;VALUE=DATE:20150927
DTEND;VALUE=DATE:20150928
DTSTAMP:20260426T031155
CREATED:20141231T130447Z
LAST-MODIFIED:20141231T130447Z
UID:7304458-1443312000-1443398399@blog.hippoline.lu
SUMMARY:Melbourne  Royal VIC (AUS) CSI1*-W
DESCRIPTION:Melbourne  Royal VIC (AUS) CSI1*-W
URL:https://blog.hippoline.lu/termin/melbourne-royal-vic-aus-csi1-w/
CATEGORIES:FEI
END:VEVENT
END:VCALENDAR