BEGIN:VCALENDAR
VERSION:2.0
PRODID:-//HIPPOline - ECPv6.15.18//NONSGML v1.0//EN
CALSCALE:GREGORIAN
METHOD:PUBLISH
X-ORIGINAL-URL:https://blog.hippoline.lu
X-WR-CALDESC:Veranstaltungen für HIPPOline
REFRESH-INTERVAL;VALUE=DURATION:PT1H
X-Robots-Tag:noindex
X-PUBLISHED-TTL:PT1H
BEGIN:VTIMEZONE
TZID:Europe/Luxembourg
BEGIN:DAYLIGHT
TZOFFSETFROM:+0100
TZOFFSETTO:+0200
TZNAME:CEST
DTSTART:20140330T010000
END:DAYLIGHT
BEGIN:STANDARD
TZOFFSETFROM:+0200
TZOFFSETTO:+0100
TZNAME:CET
DTSTART:20141026T010000
END:STANDARD
BEGIN:DAYLIGHT
TZOFFSETFROM:+0100
TZOFFSETTO:+0200
TZNAME:CEST
DTSTART:20150329T010000
END:DAYLIGHT
BEGIN:STANDARD
TZOFFSETFROM:+0200
TZOFFSETTO:+0100
TZNAME:CET
DTSTART:20151025T010000
END:STANDARD
BEGIN:DAYLIGHT
TZOFFSETFROM:+0100
TZOFFSETTO:+0200
TZNAME:CEST
DTSTART:20160327T010000
END:DAYLIGHT
BEGIN:STANDARD
TZOFFSETFROM:+0200
TZOFFSETTO:+0100
TZNAME:CET
DTSTART:20161030T010000
END:STANDARD
END:VTIMEZONE
BEGIN:VEVENT
DTSTART;VALUE=DATE:20150907
DTEND;VALUE=DATE:20150914
DTSTAMP:20260425T233505
CREATED:20141231T130434Z
LAST-MODIFIED:20141231T130434Z
UID:7304369-1441584000-1442188799@blog.hippoline.lu
SUMMARY:Pompadour (FRA) CICYH1*
DESCRIPTION:Pompadour (FRA) CICYH1*
URL:https://blog.hippoline.lu/termin/pompadour-fra-cicyh1/
CATEGORIES:FEI
END:VEVENT
BEGIN:VEVENT
DTSTART;VALUE=DATE:20150908
DTEND;VALUE=DATE:20150914
DTSTAMP:20260425T233505
CREATED:20141231T130434Z
LAST-MODIFIED:20141231T130434Z
UID:7304370-1441670400-1442188799@blog.hippoline.lu
SUMMARY:Ising am Chiemsee  (GER) CSI2* 
DESCRIPTION:Ising am Chiemsee  (GER) CSI2*   CSIAm-A   CSIAm-B   CSIYH1* 
URL:https://blog.hippoline.lu/termin/ising-am-chiemsee-ger-csi2-2/
CATEGORIES:FEI
END:VEVENT
BEGIN:VEVENT
DTSTART;VALUE=DATE:20150909
DTEND;VALUE=DATE:20150914
DTSTAMP:20260425T233505
CREATED:20141231T130434Z
LAST-MODIFIED:20141231T130434Z
UID:7304371-1441756800-1442188799@blog.hippoline.lu
SUMMARY:Bogotá (COL) CSI1*-W
DESCRIPTION:Bogotá (COL) CSI1*-W  CSICh-B
URL:https://blog.hippoline.lu/termin/bogota-col-csi1-w-2/
CATEGORIES:FEI
END:VEVENT
BEGIN:VEVENT
DTSTART;VALUE=DATE:20150909
DTEND;VALUE=DATE:20150914
DTSTAMP:20260425T233505
CREATED:20141231T130435Z
LAST-MODIFIED:20141231T130435Z
UID:7304372-1441756800-1442188799@blog.hippoline.lu
SUMMARY:Arezzo (ITA) CSI1*
DESCRIPTION:Arezzo (ITA) CSI1*  CSI3*  CSICh-A  CSIJ-B  CSIP  CSIYH1*
URL:https://blog.hippoline.lu/termin/arezzo-ita-csi1-5/
CATEGORIES:FEI
END:VEVENT
BEGIN:VEVENT
DTSTART;VALUE=DATE:20150909
DTEND;VALUE=DATE:20150914
DTSTAMP:20260425T233505
CREATED:20141231T130435Z
LAST-MODIFIED:20141231T130435Z
UID:7304373-1441756800-1442188799@blog.hippoline.lu
SUMMARY:North Salem NY (USA) CSI5*-W
DESCRIPTION:North Salem NY (USA) CSI5*-W
URL:https://blog.hippoline.lu/termin/north-salem-ny-usa-csi5-w/
CATEGORIES:FEI
END:VEVENT
BEGIN:VEVENT
DTSTART;VALUE=DATE:20150909
DTEND;VALUE=DATE:20150914
DTSTAMP:20260425T233505
CREATED:20141231T130435Z
LAST-MODIFIED:20141231T130435Z
UID:7304374-1441756800-1442188799@blog.hippoline.lu
SUMMARY:Calgary  Spruce Meadows AB (CAN) CSIO5*
DESCRIPTION:Calgary  Spruce Meadows AB (CAN) CSIO5*
URL:https://blog.hippoline.lu/termin/calgary-spruce-meadows-ab-can-csio5-2/
CATEGORIES:FEI
END:VEVENT
BEGIN:VEVENT
DTSTART;VALUE=DATE:20150910
DTEND;VALUE=DATE:20150911
DTSTAMP:20260425T233505
CREATED:20141231T130435Z
LAST-MODIFIED:20141231T130435Z
UID:7304381-1441843200-1441929599@blog.hippoline.lu
SUMMARY:Adelaide Royal SA (AUS) CSI1*-W
DESCRIPTION:Adelaide Royal SA (AUS) CSI1*-W
URL:https://blog.hippoline.lu/termin/adelaide-royal-sa-aus-csi1-w/
CATEGORIES:FEI
END:VEVENT
BEGIN:VEVENT
DTSTART;VALUE=DATE:20150910
DTEND;VALUE=DATE:20150914
DTSTAMP:20260425T233505
CREATED:20141231T130435Z
LAST-MODIFIED:20141231T130435Z
UID:7304376-1441843200-1442188799@blog.hippoline.lu
SUMMARY:Fabiansebestyen (HUN) CH-M-A
DESCRIPTION:Fabiansebestyen (HUN) CH-M-A 2
URL:https://blog.hippoline.lu/termin/fabiansebestyen-hun-ch-m-a/
CATEGORIES:FEI
END:VEVENT
BEGIN:VEVENT
DTSTART;VALUE=DATE:20150910
DTEND;VALUE=DATE:20150914
DTSTAMP:20260425T233505
CREATED:20141231T130435Z
LAST-MODIFIED:20141231T130435Z
UID:7304377-1441843200-1442188799@blog.hippoline.lu
SUMMARY:Blair Castle (GBR) CH-EU-CCI3*
DESCRIPTION:Blair Castle (GBR) CH-EU-CCI3*
URL:https://blog.hippoline.lu/termin/blair-castle-gbr-ch-eu-cci3/
CATEGORIES:FEI
END:VEVENT
BEGIN:VEVENT
DTSTART;VALUE=DATE:20150910
DTEND;VALUE=DATE:20150914
DTSTAMP:20260425T233505
CREATED:20141231T130435Z
LAST-MODIFIED:20141231T130435Z
UID:7304378-1441843200-1442188799@blog.hippoline.lu
SUMMARY:Perl (GER) CDI2*
DESCRIPTION:Perl (GER) CDI2*  CDI4*  CDIYH
URL:https://blog.hippoline.lu/termin/perl-ger-cdi2/
CATEGORIES:FEI
END:VEVENT
BEGIN:VEVENT
DTSTART;VALUE=DATE:20150910
DTEND;VALUE=DATE:20150914
DTSTAMP:20260425T233505
CREATED:20141231T130435Z
LAST-MODIFIED:20141231T130435Z
UID:7304379-1441843200-1442188799@blog.hippoline.lu
SUMMARY:Lamprechtshausen (AUT) CSI1*
DESCRIPTION:Lamprechtshausen (AUT) CSI1*  CSI2*  CSICh-A  CSIJ-A  CSIU25-A  CSIY-A  CSIYH1*
URL:https://blog.hippoline.lu/termin/lamprechtshausen-aut-csi1-2/
CATEGORIES:FEI
END:VEVENT
BEGIN:VEVENT
DTSTART;VALUE=DATE:20150910
DTEND;VALUE=DATE:20150914
DTSTAMP:20260425T233505
CREATED:20141231T130435Z
LAST-MODIFIED:20141231T130435Z
UID:7304380-1441843200-1442188799@blog.hippoline.lu
SUMMARY:Hamilton GA (USA) CIC1*
DESCRIPTION:Hamilton GA (USA) CIC1*  CIC2*  CIC3*
URL:https://blog.hippoline.lu/termin/hamilton-ga-usa-cic1-2/
CATEGORIES:FEI
END:VEVENT
BEGIN:VEVENT
DTSTART;VALUE=DATE:20150910
DTEND;VALUE=DATE:20150914
DTSTAMP:20260425T233505
CREATED:20141231T130435Z
LAST-MODIFIED:20141231T130435Z
UID:7304382-1441843200-1442188799@blog.hippoline.lu
SUMMARY:Barcelos (POR) CSI1*
DESCRIPTION:Barcelos (POR) CSI1*
URL:https://blog.hippoline.lu/termin/barcelos-por-csi1/
CATEGORIES:FEI
END:VEVENT
BEGIN:VEVENT
DTSTART;VALUE=DATE:20150910
DTEND;VALUE=DATE:20150914
DTSTAMP:20260425T233505
CREATED:20141231T130435Z
LAST-MODIFIED:20141231T130435Z
UID:7304375-1441843200-1442188799@blog.hippoline.lu
SUMMARY:Paderborn (GER) CSI3*
DESCRIPTION:Paderborn (GER) CSI3*  CSIAm-A  CSIAm-B  CSIYH1*
URL:https://blog.hippoline.lu/termin/paderborn-ger-csi3/
CATEGORIES:FEI
END:VEVENT
BEGIN:VEVENT
DTSTART;VALUE=DATE:20150910
DTEND;VALUE=DATE:20150914
DTSTAMP:20260425T233505
CREATED:20141231T130435Z
LAST-MODIFIED:20141231T130435Z
UID:7304383-1441843200-1442188799@blog.hippoline.lu
SUMMARY:Compiègne (FRA) CSI1*
DESCRIPTION:Compiègne (FRA) CSI1*  CSI2*  CSIAm-B
URL:https://blog.hippoline.lu/termin/compiegne-fra-csi1-2/
CATEGORIES:FEI
END:VEVENT
BEGIN:VEVENT
DTSTART;VALUE=DATE:20150910
DTEND;VALUE=DATE:20150914
DTSTAMP:20260425T233505
CREATED:20141231T130436Z
LAST-MODIFIED:20141231T130436Z
UID:7304384-1441843200-1442188799@blog.hippoline.lu
SUMMARY:Chazey sur Ain (FRA) CSI2*
DESCRIPTION:Chazey sur Ain (FRA) CSI2*  CSIAm-B
URL:https://blog.hippoline.lu/termin/chazey-sur-ain-fra-csi2/
CATEGORIES:FEI
END:VEVENT
BEGIN:VEVENT
DTSTART;VALUE=DATE:20150910
DTEND;VALUE=DATE:20150914
DTSTAMP:20260425T233505
CREATED:20141231T130436Z
LAST-MODIFIED:20141231T130436Z
UID:7304385-1441843200-1442188799@blog.hippoline.lu
SUMMARY:Moscow  'New Century' (RUS) CDIYH
DESCRIPTION:Moscow  ‚New Century‘ (RUS) CDIYH
URL:https://blog.hippoline.lu/termin/moscow-new-century-rus-cdiyh/
CATEGORIES:FEI
END:VEVENT
BEGIN:VEVENT
DTSTART;VALUE=DATE:20150910
DTEND;VALUE=DATE:20150914
DTSTAMP:20260425T233505
CREATED:20141231T130436Z
LAST-MODIFIED:20141231T130436Z
UID:7304386-1441843200-1442188799@blog.hippoline.lu
SUMMARY:Barbizon  (FRA) CSI1* 
DESCRIPTION:Barbizon  (FRA) CSI1*   CSI2*   CSIAm-B   CSICh-A   CSIJ-B   CSIP   CSIYH1* 
URL:https://blog.hippoline.lu/termin/barbizon-fra-csi1-2/
CATEGORIES:FEI
END:VEVENT
BEGIN:VEVENT
DTSTART;VALUE=DATE:20150910
DTEND;VALUE=DATE:20150914
DTSTAMP:20260425T233505
CREATED:20141231T130436Z
LAST-MODIFIED:20141231T130436Z
UID:7304387-1441843200-1442188799@blog.hippoline.lu
SUMMARY:Zandhoven (BEL) CDI3*
DESCRIPTION:Zandhoven (BEL) CDI3*  CDIJ  CDIP  CDIU25  CDIY
URL:https://blog.hippoline.lu/termin/zandhoven-bel-cdi3/
CATEGORIES:FEI
END:VEVENT
BEGIN:VEVENT
DTSTART;VALUE=DATE:20150910
DTEND;VALUE=DATE:20150914
DTSTAMP:20260425T233505
CREATED:20141231T130436Z
LAST-MODIFIED:20141231T130436Z
UID:7304388-1441843200-1442188799@blog.hippoline.lu
SUMMARY:Neeroeteren  (BEL) CSI2* 
DESCRIPTION:Neeroeteren  (BEL) CSI2*   CSIYH1* 
URL:https://blog.hippoline.lu/termin/neeroeteren-bel-csi2-2/
CATEGORIES:FEI
END:VEVENT
END:VCALENDAR