BEGIN:VCALENDAR
VERSION:2.0
PRODID:-//HIPPOline - ECPv6.15.18//NONSGML v1.0//EN
CALSCALE:GREGORIAN
METHOD:PUBLISH
X-ORIGINAL-URL:https://blog.hippoline.lu
X-WR-CALDESC:Veranstaltungen für HIPPOline
REFRESH-INTERVAL;VALUE=DURATION:PT1H
X-Robots-Tag:noindex
X-PUBLISHED-TTL:PT1H
BEGIN:VTIMEZONE
TZID:Europe/Luxembourg
BEGIN:DAYLIGHT
TZOFFSETFROM:+0100
TZOFFSETTO:+0200
TZNAME:CEST
DTSTART:20140330T010000
END:DAYLIGHT
BEGIN:STANDARD
TZOFFSETFROM:+0200
TZOFFSETTO:+0100
TZNAME:CET
DTSTART:20141026T010000
END:STANDARD
BEGIN:DAYLIGHT
TZOFFSETFROM:+0100
TZOFFSETTO:+0200
TZNAME:CEST
DTSTART:20150329T010000
END:DAYLIGHT
BEGIN:STANDARD
TZOFFSETFROM:+0200
TZOFFSETTO:+0100
TZNAME:CET
DTSTART:20151025T010000
END:STANDARD
BEGIN:DAYLIGHT
TZOFFSETFROM:+0100
TZOFFSETTO:+0200
TZNAME:CEST
DTSTART:20160327T010000
END:DAYLIGHT
BEGIN:STANDARD
TZOFFSETFROM:+0200
TZOFFSETTO:+0100
TZNAME:CET
DTSTART:20161030T010000
END:STANDARD
END:VTIMEZONE
BEGIN:VEVENT
DTSTART;VALUE=DATE:20150811
DTEND;VALUE=DATE:20150824
DTSTAMP:20260426T054421
CREATED:20141231T130422Z
LAST-MODIFIED:20141231T130422Z
UID:7304251-1439251200-1440374399@blog.hippoline.lu
SUMMARY:Aachen (GER) CH-EU-S
DESCRIPTION:Aachen (GER) CH-EU-S (19/08 – 23/08)  CH-EU-D (12/08 – 16/08)  CH-EU-A 4 (19/08 – 22/08)  CH-EU-R (14/08 – 16/08)  CH-EU-V (20/08 – 23/08)
URL:https://blog.hippoline.lu/termin/aachen-ger-ch-eu-s/
CATEGORIES:FEI
END:VEVENT
BEGIN:VEVENT
DTSTART;VALUE=DATE:20150819
DTEND;VALUE=DATE:20150824
DTSTAMP:20260426T054421
CREATED:20141231T130425Z
LAST-MODIFIED:20141231T130425Z
UID:7304279-1439942400-1440374399@blog.hippoline.lu
SUMMARY:Darmstadt-Kranichstein  (GER) CSI2* 
DESCRIPTION:Darmstadt-Kranichstein  (GER) CSI2*   CSIAm-B   CSIYH1* 
URL:https://blog.hippoline.lu/termin/darmstadt-kranichstein-ger-csi2/
CATEGORIES:FEI
END:VEVENT
BEGIN:VEVENT
DTSTART;VALUE=DATE:20150819
DTEND;VALUE=DATE:20150824
DTSTAMP:20260426T054421
CREATED:20141231T130425Z
LAST-MODIFIED:20141231T130425Z
UID:7304280-1439942400-1440374399@blog.hippoline.lu
SUMMARY:Le Pin au Haras (FRA) CCI1*
DESCRIPTION:Le Pin au Haras (FRA) CCI1*  CCI3*  CCIP2*  CIC2*  CIC3*  CIC3* (8 & 9 year old horses)
URL:https://blog.hippoline.lu/termin/le-pin-au-haras-fra-cci1/
CATEGORIES:FEI
END:VEVENT
BEGIN:VEVENT
DTSTART;VALUE=DATE:20150819
DTEND;VALUE=DATE:20150824
DTSTAMP:20260426T054421
CREATED:20141231T130425Z
LAST-MODIFIED:20141231T130425Z
UID:7304281-1439942400-1440374399@blog.hippoline.lu
SUMMARY:Verbier (SUI) CSI1*
DESCRIPTION:Verbier (SUI) CSI1*  CSI3*
URL:https://blog.hippoline.lu/termin/verbier-sui-csi1/
CATEGORIES:FEI
END:VEVENT
BEGIN:VEVENT
DTSTART;VALUE=DATE:20150819
DTEND;VALUE=DATE:20150824
DTSTAMP:20260426T054421
CREATED:20141231T130425Z
LAST-MODIFIED:20141231T130425Z
UID:7304282-1439942400-1440374399@blog.hippoline.lu
SUMMARY:Rockwood ON (CAN) CSI3*
DESCRIPTION:Rockwood ON (CAN) CSI3*
URL:https://blog.hippoline.lu/termin/rockwood-on-can-csi3-4/
CATEGORIES:FEI
END:VEVENT
BEGIN:VEVENT
DTSTART;VALUE=DATE:20150819
DTEND;VALUE=DATE:20150824
DTSTAMP:20260426T054421
CREATED:20141231T130425Z
LAST-MODIFIED:20141231T130425Z
UID:7304283-1439942400-1440374399@blog.hippoline.lu
SUMMARY:Langley BC  (CAN) CSI2* 
DESCRIPTION:Langley BC  (CAN) CSI2* 
URL:https://blog.hippoline.lu/termin/langley-bc-can-csi2-2/
CATEGORIES:FEI
END:VEVENT
BEGIN:VEVENT
DTSTART;VALUE=DATE:20150820
DTEND;VALUE=DATE:20150823
DTSTAMP:20260426T054421
CREATED:20141231T130425Z
LAST-MODIFIED:20141231T130425Z
UID:7304285-1440028800-1440287999@blog.hippoline.lu
SUMMARY:Auvers (FRA) CSI1*
DESCRIPTION:Auvers (FRA) CSI1*  CSI2*  CSIAm-B  CSIL1*  CSIYH1*
URL:https://blog.hippoline.lu/termin/auvers-fra-csi1/
CATEGORIES:FEI
END:VEVENT
BEGIN:VEVENT
DTSTART;VALUE=DATE:20150820
DTEND;VALUE=DATE:20150824
DTSTAMP:20260426T054421
CREATED:20141231T130425Z
LAST-MODIFIED:20141231T130425Z
UID:7304284-1440028800-1440374399@blog.hippoline.lu
SUMMARY:Mâcon Chaintré (FRA) CSI3*
DESCRIPTION:Mâcon Chaintré (FRA) CSI3*  CSIAm-B  CSIL1*  CSIYH1*
URL:https://blog.hippoline.lu/termin/macon-chaintre-fra-csi3/
CATEGORIES:FEI
END:VEVENT
BEGIN:VEVENT
DTSTART;VALUE=DATE:20150820
DTEND;VALUE=DATE:20150824
DTSTAMP:20260426T054421
CREATED:20141231T130425Z
LAST-MODIFIED:20141231T130425Z
UID:7304286-1440028800-1440374399@blog.hippoline.lu
SUMMARY:Cervia  (ITA) CSI1*
DESCRIPTION:Cervia  (ITA) CSI1*  CSI2*  CSIAm-A  CSIV-A  CSIYH1*
URL:https://blog.hippoline.lu/termin/cervia-ita-csi1-2/
CATEGORIES:FEI
END:VEVENT
BEGIN:VEVENT
DTSTART;VALUE=DATE:20150820
DTEND;VALUE=DATE:20150824
DTSTAMP:20260426T054421
CREATED:20141231T130425Z
LAST-MODIFIED:20141231T130425Z
UID:7304287-1440028800-1440374399@blog.hippoline.lu
SUMMARY:Richland MI (USA) CIC2*
DESCRIPTION:Richland MI (USA) CIC2*  CIC3*
URL:https://blog.hippoline.lu/termin/richland-mi-usa-cic2/
CATEGORIES:FEI
END:VEVENT
BEGIN:VEVENT
DTSTART;VALUE=DATE:20150820
DTEND;VALUE=DATE:20150824
DTSTAMP:20260426T054421
CREATED:20141231T130425Z
LAST-MODIFIED:20141231T130425Z
UID:7304288-1440028800-1440374399@blog.hippoline.lu
SUMMARY:Parker CO (USA) CIC1*
DESCRIPTION:Parker CO (USA) CIC1*  CIC2*
URL:https://blog.hippoline.lu/termin/parker-co-usa-cic1/
CATEGORIES:FEI
END:VEVENT
END:VCALENDAR