BEGIN:VCALENDAR
VERSION:2.0
PRODID:-//HIPPOline - ECPv6.15.18//NONSGML v1.0//EN
CALSCALE:GREGORIAN
METHOD:PUBLISH
X-ORIGINAL-URL:https://blog.hippoline.lu
X-WR-CALDESC:Veranstaltungen für HIPPOline
REFRESH-INTERVAL;VALUE=DURATION:PT1H
X-Robots-Tag:noindex
X-PUBLISHED-TTL:PT1H
BEGIN:VTIMEZONE
TZID:Europe/Luxembourg
BEGIN:DAYLIGHT
TZOFFSETFROM:+0100
TZOFFSETTO:+0200
TZNAME:CEST
DTSTART:20140330T010000
END:DAYLIGHT
BEGIN:STANDARD
TZOFFSETFROM:+0200
TZOFFSETTO:+0100
TZNAME:CET
DTSTART:20141026T010000
END:STANDARD
BEGIN:DAYLIGHT
TZOFFSETFROM:+0100
TZOFFSETTO:+0200
TZNAME:CEST
DTSTART:20150329T010000
END:DAYLIGHT
BEGIN:STANDARD
TZOFFSETFROM:+0200
TZOFFSETTO:+0100
TZNAME:CET
DTSTART:20151025T010000
END:STANDARD
BEGIN:DAYLIGHT
TZOFFSETFROM:+0100
TZOFFSETTO:+0200
TZNAME:CEST
DTSTART:20160327T010000
END:DAYLIGHT
BEGIN:STANDARD
TZOFFSETFROM:+0200
TZOFFSETTO:+0100
TZNAME:CET
DTSTART:20161030T010000
END:STANDARD
END:VTIMEZONE
BEGIN:VEVENT
DTSTART;VALUE=DATE:20150811
DTEND;VALUE=DATE:20150824
DTSTAMP:20260426T013855
CREATED:20141231T130422Z
LAST-MODIFIED:20141231T130422Z
UID:7304251-1439251200-1440374399@blog.hippoline.lu
SUMMARY:Aachen (GER) CH-EU-S
DESCRIPTION:Aachen (GER) CH-EU-S (19/08 – 23/08)  CH-EU-D (12/08 – 16/08)  CH-EU-A 4 (19/08 – 22/08)  CH-EU-R (14/08 – 16/08)  CH-EU-V (20/08 – 23/08)
URL:https://blog.hippoline.lu/termin/aachen-ger-ch-eu-s/
CATEGORIES:FEI
END:VEVENT
BEGIN:VEVENT
DTSTART;VALUE=DATE:20150818
DTEND;VALUE=DATE:20150819
DTSTAMP:20260426T013855
CREATED:20141231T130425Z
LAST-MODIFIED:20141231T130425Z
UID:7304278-1439856000-1439942399@blog.hippoline.lu
SUMMARY:Millbrook ON (CAN) CH-Pan-Am-E
DESCRIPTION:Millbrook ON (CAN) CH-Pan-Am-E 120  CH-Pan-Am-YJ-E 120
URL:https://blog.hippoline.lu/termin/millbrook-on-can-ch-pan-am-e/
CATEGORIES:FEI
END:VEVENT
END:VCALENDAR