BEGIN:VCALENDAR
VERSION:2.0
PRODID:-//HIPPOline - ECPv6.15.18//NONSGML v1.0//EN
CALSCALE:GREGORIAN
METHOD:PUBLISH
X-ORIGINAL-URL:https://blog.hippoline.lu
X-WR-CALDESC:Veranstaltungen für HIPPOline
REFRESH-INTERVAL;VALUE=DURATION:PT1H
X-Robots-Tag:noindex
X-PUBLISHED-TTL:PT1H
BEGIN:VTIMEZONE
TZID:Europe/Luxembourg
BEGIN:DAYLIGHT
TZOFFSETFROM:+0100
TZOFFSETTO:+0200
TZNAME:CEST
DTSTART:20140330T010000
END:DAYLIGHT
BEGIN:STANDARD
TZOFFSETFROM:+0200
TZOFFSETTO:+0100
TZNAME:CET
DTSTART:20141026T010000
END:STANDARD
BEGIN:DAYLIGHT
TZOFFSETFROM:+0100
TZOFFSETTO:+0200
TZNAME:CEST
DTSTART:20150329T010000
END:DAYLIGHT
BEGIN:STANDARD
TZOFFSETFROM:+0200
TZOFFSETTO:+0100
TZNAME:CET
DTSTART:20151025T010000
END:STANDARD
BEGIN:DAYLIGHT
TZOFFSETFROM:+0100
TZOFFSETTO:+0200
TZNAME:CEST
DTSTART:20160327T010000
END:DAYLIGHT
BEGIN:STANDARD
TZOFFSETFROM:+0200
TZOFFSETTO:+0100
TZNAME:CET
DTSTART:20161030T010000
END:STANDARD
END:VTIMEZONE
BEGIN:VEVENT
DTSTART;VALUE=DATE:20150810
DTEND;VALUE=DATE:20150817
DTSTAMP:20260426T050952
CREATED:20141231T130422Z
LAST-MODIFIED:20141231T130422Z
UID:7304250-1439164800-1439769599@blog.hippoline.lu
SUMMARY:Wiener Neustadt (AUT) CH-EU-Ch-S
DESCRIPTION:Wiener Neustadt (AUT) CH-EU-Ch-S  CH-EU-J-S  CH-EU-Y-S
URL:https://blog.hippoline.lu/termin/wiener-neustadt-aut-ch-eu-ch-s/
CATEGORIES:FEI
END:VEVENT
BEGIN:VEVENT
DTSTART;VALUE=DATE:20150811
DTEND;VALUE=DATE:20150817
DTSTAMP:20260426T050952
CREATED:20141231T130422Z
LAST-MODIFIED:20141231T130422Z
UID:7304252-1439251200-1439769599@blog.hippoline.lu
SUMMARY:San Giovanni in Marignano (ITA) CSI1*
DESCRIPTION:San Giovanni in Marignano (ITA) CSI1*  CSI2*  CSI3*  CSICh-A  CSIJ-B  CSIP  CSIU25-A  CSIYH1*
URL:https://blog.hippoline.lu/termin/san-giovanni-in-marignano-ita-csi1-6/
CATEGORIES:FEI
END:VEVENT
BEGIN:VEVENT
DTSTART;VALUE=DATE:20150811
DTEND;VALUE=DATE:20150824
DTSTAMP:20260426T050952
CREATED:20141231T130422Z
LAST-MODIFIED:20141231T130422Z
UID:7304251-1439251200-1440374399@blog.hippoline.lu
SUMMARY:Aachen (GER) CH-EU-S
DESCRIPTION:Aachen (GER) CH-EU-S (19/08 – 23/08)  CH-EU-D (12/08 – 16/08)  CH-EU-A 4 (19/08 – 22/08)  CH-EU-R (14/08 – 16/08)  CH-EU-V (20/08 – 23/08)
URL:https://blog.hippoline.lu/termin/aachen-ger-ch-eu-s/
CATEGORIES:FEI
END:VEVENT
END:VCALENDAR